BEGIN:VCALENDAR
VERSION:2.0
PRODID:-//The Exchange Food Hall - ECPv6.15.17//NONSGML v1.0//EN
CALSCALE:GREGORIAN
METHOD:PUBLISH
X-ORIGINAL-URL:https://theexchangehall.com
X-WR-CALDESC:Events for The Exchange Food Hall
REFRESH-INTERVAL;VALUE=DURATION:PT1H
X-Robots-Tag:noindex
X-PUBLISHED-TTL:PT1H
BEGIN:VTIMEZONE
TZID:America/Chicago
BEGIN:DAYLIGHT
TZOFFSETFROM:-0600
TZOFFSETTO:-0500
TZNAME:CDT
DTSTART:20200308T080000
END:DAYLIGHT
BEGIN:STANDARD
TZOFFSETFROM:-0500
TZOFFSETTO:-0600
TZNAME:CST
DTSTART:20201101T070000
END:STANDARD
BEGIN:DAYLIGHT
TZOFFSETFROM:-0600
TZOFFSETTO:-0500
TZNAME:CDT
DTSTART:20210314T080000
END:DAYLIGHT
BEGIN:STANDARD
TZOFFSETFROM:-0500
TZOFFSETTO:-0600
TZNAME:CST
DTSTART:20211107T070000
END:STANDARD
BEGIN:DAYLIGHT
TZOFFSETFROM:-0600
TZOFFSETTO:-0500
TZNAME:CDT
DTSTART:20220313T080000
END:DAYLIGHT
BEGIN:STANDARD
TZOFFSETFROM:-0500
TZOFFSETTO:-0600
TZNAME:CST
DTSTART:20221106T070000
END:STANDARD
END:VTIMEZONE
BEGIN:VEVENT
DTSTART;TZID=America/Chicago:20210515T110000
DTEND;TZID=America/Chicago:20211016T210000
DTSTAMP:20260424T150856
CREATED:20210902T212634Z
LAST-MODIFIED:20221130T214629Z
UID:234565-1621076400-1634418000@theexchangehall.com
SUMMARY:Experience HBO Max Orbit
DESCRIPTION:HBO Max\, AT&T and experience design firm\, HUSH\, worked together to create an immersive fan experience using physical and voice recognition which debuted in a digital version at SXSW. The experience took on a physical form\, using 5G\, in AT&T’s Experience Studio. \nRelive the experience here.
URL:https://theexchangehall.com/event/experience-hbo-max-orbit/
LOCATION:AT&T Experience Store\, 308 S Akard St Ste. 100\, Dallas\, TX\, 75202\, United States
CATEGORIES:Kids & Family,Technology,TV & Film
ATTACH;FMTTYPE=image/jpeg:https://theexchangehall.com/wp-content/uploads/2022/06/HBO-cover-uKpLeb.tmp_.jpg
END:VEVENT
BEGIN:VEVENT
DTSTART;TZID=America/Chicago:20210611T000000
DTEND;TZID=America/Chicago:20211031T000000
DTSTAMP:20260424T150856
CREATED:20220118T160550Z
LAST-MODIFIED:20221130T214629Z
UID:236754-1623369600-1635638400@theexchangehall.com
SUMMARY:Experience Friends
DESCRIPTION:This Experience is no longer available.\nRelive the experience here. \n 
URL:https://theexchangehall.com/event/experience-friends-2/
LOCATION:AT&T Experience Store\, 308 S Akard St Ste. 100\, Dallas\, TX\, 75202\, United States
CATEGORIES:Kids & Family,TV & Film
ATTACH;FMTTYPE=image/jpeg:https://theexchangehall.com/wp-content/uploads/2022/06/friends-d9yYMl.tmp_.jpg
END:VEVENT
BEGIN:VEVENT
DTSTART;TZID=America/Chicago:20210807T100000
DTEND;TZID=America/Chicago:20210807T150000
DTSTAMP:20260424T150856
CREATED:20210902T212630Z
LAST-MODIFIED:20221130T214623Z
UID:234556-1628330400-1628348400@theexchangehall.com
SUMMARY:Back 2 School Bash
DESCRIPTION:Celebrate the end of summer with our #Back2SchoolBash next Saturday\, August 7th! \n\nFrom 10am-3pm\, stop by for live music by School of Rock DFW\, food\, games\, giveaways\, a face painter\, a balloon artist\, and more fun activities. Proceeds from our #DunkforDonations dunk tank featuring the Dallas Mavs and our family-friendly “Lemon-Aid” stand by Double Tap Bar will all benefit For Oak Cliff.\n\nOur #Back2SchoolBash is the perfect way to spend your weekend. We hope to see you there!\n 
URL:https://theexchangehall.com/event/back-2-school-bash/
LOCATION:AT&T Discovery District\, 308 S Akard St\, Dallas\, TX\, 75202
CATEGORIES:Art,Education,Food & Drink,Kids & Family,Music
ATTACH;FMTTYPE=image/jpeg:https://theexchangehall.com/wp-content/uploads/2022/06/ATT_BACK2SCHOOL-03-scaled-9lWNQq.tmp_.jpg
END:VEVENT
END:VCALENDAR