BEGIN:VCALENDAR
VERSION:2.0
PRODID:-//The Exchange Food Hall - ECPv6.15.17//NONSGML v1.0//EN
CALSCALE:GREGORIAN
METHOD:PUBLISH
X-WR-CALNAME:The Exchange Food Hall
X-ORIGINAL-URL:https://theexchangehall.com
X-WR-CALDESC:Events for The Exchange Food Hall
REFRESH-INTERVAL;VALUE=DURATION:PT1H
X-Robots-Tag:noindex
X-PUBLISHED-TTL:PT1H
BEGIN:VTIMEZONE
TZID:America/Chicago
BEGIN:DAYLIGHT
TZOFFSETFROM:-0600
TZOFFSETTO:-0500
TZNAME:CDT
DTSTART:20200308T080000
END:DAYLIGHT
BEGIN:STANDARD
TZOFFSETFROM:-0500
TZOFFSETTO:-0600
TZNAME:CST
DTSTART:20201101T070000
END:STANDARD
BEGIN:DAYLIGHT
TZOFFSETFROM:-0600
TZOFFSETTO:-0500
TZNAME:CDT
DTSTART:20210314T080000
END:DAYLIGHT
BEGIN:STANDARD
TZOFFSETFROM:-0500
TZOFFSETTO:-0600
TZNAME:CST
DTSTART:20211107T070000
END:STANDARD
BEGIN:DAYLIGHT
TZOFFSETFROM:-0600
TZOFFSETTO:-0500
TZNAME:CDT
DTSTART:20220313T080000
END:DAYLIGHT
BEGIN:STANDARD
TZOFFSETFROM:-0500
TZOFFSETTO:-0600
TZNAME:CST
DTSTART:20221106T070000
END:STANDARD
END:VTIMEZONE
BEGIN:VEVENT
DTSTART;TZID=America/Chicago:20210611T000000
DTEND;TZID=America/Chicago:20211031T000000
DTSTAMP:20260424T150725
CREATED:20220118T160550Z
LAST-MODIFIED:20221130T214629Z
UID:236754-1623369600-1635638400@theexchangehall.com
SUMMARY:Experience Friends
DESCRIPTION:This Experience is no longer available.\nRelive the experience here. \n 
URL:https://theexchangehall.com/event/experience-friends-2/
LOCATION:AT&T Experience Store\, 308 S Akard St Ste. 100\, Dallas\, TX\, 75202\, United States
CATEGORIES:Kids & Family,TV & Film
ATTACH;FMTTYPE=image/jpeg:https://theexchangehall.com/wp-content/uploads/2022/06/friends-d9yYMl.tmp_.jpg
END:VEVENT
BEGIN:VEVENT
DTSTART;TZID=America/Chicago:20211016T140000
DTEND;TZID=America/Chicago:20211023T210000
DTSTAMP:20260424T150725
CREATED:20211008T230504Z
LAST-MODIFIED:20221130T214604Z
UID:235288-1634392800-1635022800@theexchangehall.com
SUMMARY:Pumpkins On The Lawn
DESCRIPTION:Stop by the north Lawn in The District to snag your photo op in our very own pumpkin patch from October 16-23 \nIn partnership with Ruibal’s
URL:https://theexchangehall.com/event/pumpkins-on-the-lawn/
LOCATION:AT&T Discovery District\, 308 S Akard St\, Dallas\, TX\, 75202
CATEGORIES:Kids & Family
ATTACH;FMTTYPE=image/jpeg:https://theexchangehall.com/wp-content/uploads/2022/02/pumpkin-patch-scaled-l2LyFD.tmp_.jpg
END:VEVENT
BEGIN:VEVENT
DTSTART;TZID=America/Chicago:20211023T100000
DTEND;TZID=America/Chicago:20211023T110000
DTSTAMP:20260424T150726
CREATED:20211019T030504Z
LAST-MODIFIED:20221130T214600Z
UID:235459-1634983200-1634986800@theexchangehall.com
SUMMARY:Cartoons on the Lawn
DESCRIPTION:AT&T Discovery District will be playing cartoons on the Media Wall this Saturday\, October 23\, from 10-11am. Watch while enjoying the Cereal Waffle from Press Waffle Co. located in The Exchange. \nThis Saturday’s lineup includes: \nTotal Dramarama – Ghoul Spirit\nTeen Titans Go! – Monster Squad!\nThe Amazing World of Gumball – Halloween\nCraig of the Creek – Trick or Creek
URL:https://theexchangehall.com/event/cartoons-on-the-lawn-6/
LOCATION:AT&T Discovery District\, 308 S Akard St\, Dallas\, TX\, 75202
CATEGORIES:Kids & Family
ATTACH;FMTTYPE=image/jpeg:https://theexchangehall.com/wp-content/uploads/2022/02/cartoons-on-the-lawn-scaled-PsHrhs.tmp_.jpg
END:VEVENT
BEGIN:VEVENT
DTSTART;TZID=America/Chicago:20211023T100000
DTEND;TZID=America/Chicago:20211023T160000
DTSTAMP:20260424T150726
CREATED:20211013T230507Z
LAST-MODIFIED:20221130T214602Z
UID:235356-1634983200-1635004800@theexchangehall.com
SUMMARY:Dallas Art Bazaar
DESCRIPTION:Stop by the District for a street art market like never before on October 23 from 10am-4pm.  Enjoy local art vendors\, Mr. Mural Kidzone\, Music by DJ Buck Rodgers\, a pumpkin patch\, pumpkin painting\, and more for the whole family!
URL:https://theexchangehall.com/event/dallas-art-bazaar/
LOCATION:AT&T Discovery District\, 308 S Akard St\, Dallas\, TX\, 75202
CATEGORIES:Art,Kids & Family
ATTACH;FMTTYPE=image/jpeg:https://theexchangehall.com/wp-content/uploads/2022/02/ATT-template-scaled-W2eiwn.tmp_.jpg
END:VEVENT
END:VCALENDAR