BEGIN:VCALENDAR
VERSION:2.0
PRODID:-//The Exchange Food Hall - ECPv6.15.17//NONSGML v1.0//EN
CALSCALE:GREGORIAN
METHOD:PUBLISH
X-WR-CALNAME:The Exchange Food Hall
X-ORIGINAL-URL:https://theexchangehall.com
X-WR-CALDESC:Events for The Exchange Food Hall
REFRESH-INTERVAL;VALUE=DURATION:PT1H
X-Robots-Tag:noindex
X-PUBLISHED-TTL:PT1H
BEGIN:VTIMEZONE
TZID:America/Chicago
BEGIN:DAYLIGHT
TZOFFSETFROM:-0600
TZOFFSETTO:-0500
TZNAME:CDT
DTSTART:20200308T080000
END:DAYLIGHT
BEGIN:STANDARD
TZOFFSETFROM:-0500
TZOFFSETTO:-0600
TZNAME:CST
DTSTART:20201101T070000
END:STANDARD
BEGIN:DAYLIGHT
TZOFFSETFROM:-0600
TZOFFSETTO:-0500
TZNAME:CDT
DTSTART:20210314T080000
END:DAYLIGHT
BEGIN:STANDARD
TZOFFSETFROM:-0500
TZOFFSETTO:-0600
TZNAME:CST
DTSTART:20211107T070000
END:STANDARD
BEGIN:DAYLIGHT
TZOFFSETFROM:-0600
TZOFFSETTO:-0500
TZNAME:CDT
DTSTART:20220313T080000
END:DAYLIGHT
BEGIN:STANDARD
TZOFFSETFROM:-0500
TZOFFSETTO:-0600
TZNAME:CST
DTSTART:20221106T070000
END:STANDARD
END:VTIMEZONE
BEGIN:VEVENT
DTSTART;TZID=America/Chicago:20211106T150000
DTEND;TZID=America/Chicago:20211106T180000
DTSTAMP:20260424T150640
CREATED:20211021T150504Z
LAST-MODIFIED:20221130T214559Z
UID:235491-1636210800-1636221600@theexchangehall.com
SUMMARY:Devour Street Food Festival
DESCRIPTION:Come to the Discovery District for Chef’s for Farmers Devour Street Food Festival at The Exchange\, Saturday\, November 6 from 3-6pm \nAn elevated approach on your favorite picnic-style eats. An all-inclusive feast featuring Dallas’s most indulgent sips and elevated street eats. Dance the evening away with live DJ & after party after the festival! \nParticipating vendors include: \nEataly\nRise + Thyme\nIchi Ni San\nBobbers\nThe Dock\nMonkey King Noodle\nPress Waffle Co.\nAttalie\nSaturday Mornings\nOunce\nRevolver Taco\nBaboushi\nLa Duni\nZalat Pizza\n& more! \nBUY YOUR TICKETS HERE!
URL:https://theexchangehall.com/event/devour-street-food-festival/
LOCATION:TX
CATEGORIES:Food & Drink,Nightlife
ATTACH;FMTTYPE=image/jpeg:https://theexchangehall.com/wp-content/uploads/2022/02/chefs-cover-scaled-8x7c38.tmp_.jpg
END:VEVENT
END:VCALENDAR