BEGIN:VCALENDAR
VERSION:2.0
PRODID:-//The Exchange Food Hall - ECPv6.15.17//NONSGML v1.0//EN
CALSCALE:GREGORIAN
METHOD:PUBLISH
X-WR-CALNAME:The Exchange Food Hall
X-ORIGINAL-URL:https://theexchangehall.com
X-WR-CALDESC:Events for The Exchange Food Hall
REFRESH-INTERVAL;VALUE=DURATION:PT1H
X-Robots-Tag:noindex
X-PUBLISHED-TTL:PT1H
BEGIN:VTIMEZONE
TZID:America/Chicago
BEGIN:DAYLIGHT
TZOFFSETFROM:-0600
TZOFFSETTO:-0500
TZNAME:CDT
DTSTART:20200308T080000
END:DAYLIGHT
BEGIN:STANDARD
TZOFFSETFROM:-0500
TZOFFSETTO:-0600
TZNAME:CST
DTSTART:20201101T070000
END:STANDARD
BEGIN:DAYLIGHT
TZOFFSETFROM:-0600
TZOFFSETTO:-0500
TZNAME:CDT
DTSTART:20210314T080000
END:DAYLIGHT
BEGIN:STANDARD
TZOFFSETFROM:-0500
TZOFFSETTO:-0600
TZNAME:CST
DTSTART:20211107T070000
END:STANDARD
BEGIN:DAYLIGHT
TZOFFSETFROM:-0600
TZOFFSETTO:-0500
TZNAME:CDT
DTSTART:20220313T080000
END:DAYLIGHT
BEGIN:STANDARD
TZOFFSETFROM:-0500
TZOFFSETTO:-0600
TZNAME:CST
DTSTART:20221106T070000
END:STANDARD
END:VTIMEZONE
BEGIN:VEVENT
DTSTART;TZID=America/Chicago:20211108T180000
DTEND;TZID=America/Chicago:20211127T150000
DTSTAMP:20260424T161833
CREATED:20211229T165915Z
LAST-MODIFIED:20221130T214546Z
UID:236446-1636394400-1638025200@theexchangehall.com
SUMMARY:Native American Heritage Month
DESCRIPTION:November is Native American Heritage Month and AT&T Discovery District is celebrating the history\, culture\, and traditions of Native Americans in the Discovery District all month long! \nClick here to learn more about this year’s celebrations.
URL:https://theexchangehall.com/event/native-american-heritage-month/
LOCATION:AT&T Discovery District\, 308 S Akard St\, Dallas\, TX\, 75202
CATEGORIES:Education
ATTACH;FMTTYPE=image/jpeg:https://theexchangehall.com/wp-content/uploads/2022/02/NA-Heritage-Month-scaled-HvUuoQ.tmp_.jpg
END:VEVENT
BEGIN:VEVENT
DTSTART;TZID=America/Chicago:20211114T120000
DTEND;TZID=America/Chicago:20211114T150000
DTSTAMP:20260424T161833
CREATED:20211026T030511Z
LAST-MODIFIED:20221130T214557Z
UID:235562-1636891200-1636902000@theexchangehall.com
SUMMARY:Cheer On The Cowboys
DESCRIPTION:Join us on the lawn Sunday\, 11/14\, while the Cowboys game streams on the 104′ Media Wall\, plus over 40 other TVs throughout the District! \nDon’t forget to stop by Jaxon for a $4 Miller and Coors special\, or any of the 8 bars in the District to grab a drink to enjoy while watching the game.
URL:https://theexchangehall.com/event/cheer-on-the-cowboys-9/
LOCATION:AT&T Discovery District\, 308 S Akard St\, Dallas\, TX\, 75202
CATEGORIES:Kids & Family,Sports
ATTACH;FMTTYPE=image/jpeg:https://theexchangehall.com/wp-content/uploads/2022/02/day-game-scaled-Se9lCd.tmp_.jpg
END:VEVENT
BEGIN:VEVENT
DTSTART;TZID=America/Chicago:20211114T160000
DTEND;TZID=America/Chicago:20211114T190000
DTSTAMP:20260424T161833
CREATED:20211229T165919Z
LAST-MODIFIED:20221130T214549Z
UID:236454-1636905600-1636916400@theexchangehall.com
SUMMARY:Christmas Movie Screening: 8-Bit Christmas
DESCRIPTION:Start the holiday season off early with an exclusive before the air date screening of HBO Max’s newest Christmas movie\, 8-Bit Christmas\, on the Media Wall starting at 4pm on Sunday\, 11/14. Starring Steve Zahn and Neil Patrick Harris this Christmas comedy is sure to bring lots of laughs. \nSet to release on HBOMax on 11/25\, don’t miss your first chance to see this newest Christmas movie delight. 8-Bit Christmas is a humorous and heartfelt look back at the adventures of childhood. Set in suburban Chicago in the late 1980s\, the story centers on ten-year-old Jake Doyle’s (Winslow Fegley) herculean quest to get the latest and greatest video game system for Christmas.
URL:https://theexchangehall.com/event/christmas-movie-screening-8-bit-christmas/
LOCATION:AT&T Discovery District\, 308 S Akard St\, Dallas\, TX\, 75202
CATEGORIES:Kids & Family,TV & Film
ATTACH;FMTTYPE=image/jpeg:https://theexchangehall.com/wp-content/uploads/2022/02/8bit-christmas-1-scaled-MMVfcZ.tmp_.jpg
END:VEVENT
END:VCALENDAR