BEGIN:VCALENDAR
VERSION:2.0
PRODID:-//The Exchange Food Hall - ECPv6.15.17//NONSGML v1.0//EN
CALSCALE:GREGORIAN
METHOD:PUBLISH
X-WR-CALNAME:The Exchange Food Hall
X-ORIGINAL-URL:https://theexchangehall.com
X-WR-CALDESC:Events for The Exchange Food Hall
REFRESH-INTERVAL;VALUE=DURATION:PT1H
X-Robots-Tag:noindex
X-PUBLISHED-TTL:PT1H
BEGIN:VTIMEZONE
TZID:America/Chicago
BEGIN:DAYLIGHT
TZOFFSETFROM:-0600
TZOFFSETTO:-0500
TZNAME:CDT
DTSTART:20200308T080000
END:DAYLIGHT
BEGIN:STANDARD
TZOFFSETFROM:-0500
TZOFFSETTO:-0600
TZNAME:CST
DTSTART:20201101T070000
END:STANDARD
BEGIN:DAYLIGHT
TZOFFSETFROM:-0600
TZOFFSETTO:-0500
TZNAME:CDT
DTSTART:20210314T080000
END:DAYLIGHT
BEGIN:STANDARD
TZOFFSETFROM:-0500
TZOFFSETTO:-0600
TZNAME:CST
DTSTART:20211107T070000
END:STANDARD
BEGIN:DAYLIGHT
TZOFFSETFROM:-0600
TZOFFSETTO:-0500
TZNAME:CDT
DTSTART:20220313T080000
END:DAYLIGHT
BEGIN:STANDARD
TZOFFSETFROM:-0500
TZOFFSETTO:-0600
TZNAME:CST
DTSTART:20221106T070000
END:STANDARD
END:VTIMEZONE
BEGIN:VEVENT
DTSTART;TZID=America/Chicago:20211108T180000
DTEND;TZID=America/Chicago:20211127T150000
DTSTAMP:20260424T161839
CREATED:20211229T165915Z
LAST-MODIFIED:20221130T214546Z
UID:236446-1636394400-1638025200@theexchangehall.com
SUMMARY:Native American Heritage Month
DESCRIPTION:November is Native American Heritage Month and AT&T Discovery District is celebrating the history\, culture\, and traditions of Native Americans in the Discovery District all month long! \nClick here to learn more about this year’s celebrations.
URL:https://theexchangehall.com/event/native-american-heritage-month/
LOCATION:AT&T Discovery District\, 308 S Akard St\, Dallas\, TX\, 75202
CATEGORIES:Education
ATTACH;FMTTYPE=image/jpeg:https://theexchangehall.com/wp-content/uploads/2022/02/NA-Heritage-Month-scaled-HvUuoQ.tmp_.jpg
END:VEVENT
BEGIN:VEVENT
DTSTART;TZID=America/Chicago:20211121T130000
DTEND;TZID=America/Chicago:20211121T190000
DTSTAMP:20260424T161839
CREATED:20211229T165930Z
LAST-MODIFIED:20221130T214556Z
UID:236467-1637499600-1637521200@theexchangehall.com
SUMMARY:Dallas Cowboys Official Watch Party
DESCRIPTION:OFFICIAL WATCH PARTIES PRESENTED BY MILLERLITE OFFER FANS GAMEDAY ACTION IN MILLER LITEHOUSE AT AT&T STADIUM AND AT&T DISCOVERY DISTRICT IN DOWNTOWN DALLAS \nFor the first time\, the Dallas Cowboys are hosting dual-location Official Watch Parties presented by MillerLite on Sunday\, November 21st when the club plays at the Kansas City Chiefs. The 2 Watch Party locations offer incredible screen viewing experiences featuring the 3:25 PM FOX gameday broadcast in convenient outdoor options to fans at Miller LiteHouse at AT&T Stadium in Arlington and AT&T Discovery District in Downtown Dallas. \nBoth Official Watch Party locations include appearances by the Dallas Cowboys Cheerleaders\, appearances from Dallas Cowboys Alumni\, the official mascot\, Rowdy\, and showcase Dallas Cowboys gameday energy and traditions for fans to enjoy as the Cowboys play Kansas City. \nSelf-parking is available at 1212 Jackson Street on weekdays after 5 p.m. and all day on weekends. It’s free with merchant validation. Additionally\, surface lot parking is available nearby.
URL:https://theexchangehall.com/event/dallas-cowboys-official-watch-party/
LOCATION:AT&T Discovery District\, 308 S Akard St\, Dallas\, TX\, 75202
CATEGORIES:Kids & Family,Sports
ATTACH;FMTTYPE=image/jpeg:https://theexchangehall.com/wp-content/uploads/2022/02/official-watch-party-scaled-8TYoCH.tmp_.jpg
END:VEVENT
END:VCALENDAR