BEGIN:VCALENDAR
VERSION:2.0
PRODID:-//The Exchange Food Hall - ECPv6.15.17//NONSGML v1.0//EN
CALSCALE:GREGORIAN
METHOD:PUBLISH
X-WR-CALNAME:The Exchange Food Hall
X-ORIGINAL-URL:https://theexchangehall.com
X-WR-CALDESC:Events for The Exchange Food Hall
REFRESH-INTERVAL;VALUE=DURATION:PT1H
X-Robots-Tag:noindex
X-PUBLISHED-TTL:PT1H
BEGIN:VTIMEZONE
TZID:America/Chicago
BEGIN:DAYLIGHT
TZOFFSETFROM:-0600
TZOFFSETTO:-0500
TZNAME:CDT
DTSTART:20200308T080000
END:DAYLIGHT
BEGIN:STANDARD
TZOFFSETFROM:-0500
TZOFFSETTO:-0600
TZNAME:CST
DTSTART:20201101T070000
END:STANDARD
BEGIN:DAYLIGHT
TZOFFSETFROM:-0600
TZOFFSETTO:-0500
TZNAME:CDT
DTSTART:20210314T080000
END:DAYLIGHT
BEGIN:STANDARD
TZOFFSETFROM:-0500
TZOFFSETTO:-0600
TZNAME:CST
DTSTART:20211107T070000
END:STANDARD
BEGIN:DAYLIGHT
TZOFFSETFROM:-0600
TZOFFSETTO:-0500
TZNAME:CDT
DTSTART:20220313T080000
END:DAYLIGHT
BEGIN:STANDARD
TZOFFSETFROM:-0500
TZOFFSETTO:-0600
TZNAME:CST
DTSTART:20221106T070000
END:STANDARD
END:VTIMEZONE
BEGIN:VEVENT
DTSTART;TZID=America/Chicago:20211205T120000
DTEND;TZID=America/Chicago:20211205T160000
DTSTAMP:20260424T173935
CREATED:20211229T165912Z
LAST-MODIFIED:20221130T214545Z
UID:236442-1638705600-1638720000@theexchangehall.com
SUMMARY:Kids Zone at The Grove
DESCRIPTION:Bring the kids to the holiday festivities for Kids Zone at The Grove Sunday\, 12/5 to enjoy multiple family fun activities! Pre-order or pick up day of at Rise+Thyme for the gingerbread house decorating contest! There will be letters to Santa\, ornament workshop\, giveaways\, holiday drinks\, and free family photos in front of the tree from 1-3pm. Wrap up the fun and stay for the Movies on the Lawn showing of the favorite holiday classic\, Elf from 4-6pm!
URL:https://theexchangehall.com/event/kids-zone-at-the-grove/
LOCATION:AT&T Discovery District\, 308 S Akard St\, Dallas\, TX\, 75202
CATEGORIES:Kids & Family
ATTACH;FMTTYPE=image/jpeg:https://theexchangehall.com/wp-content/uploads/2022/02/zids-zone-scaled-zy5CDl.tmp_.jpg
END:VEVENT
BEGIN:VEVENT
DTSTART;TZID=America/Chicago:20211205T160000
DTEND;TZID=America/Chicago:20211205T180000
DTSTAMP:20260424T173935
CREATED:20211229T165913Z
LAST-MODIFIED:20221130T214545Z
UID:236443-1638720000-1638727200@theexchangehall.com
SUMMARY:Movies on the Lawn - Elf
DESCRIPTION:Come watch the Holiday classic\, Elf\, on the Lawn in the AT&T Discovery District on Sunday\, 12/4 starting at 4PM following the Kids Zone festivities
URL:https://theexchangehall.com/event/movies-on-the-lawn-elf/
LOCATION:AT&T Discovery District\, 308 S Akard St\, Dallas\, TX\, 75202
CATEGORIES:Kids & Family,TV & Film
ATTACH;FMTTYPE=image/jpeg:https://theexchangehall.com/wp-content/uploads/2022/02/ELF-cover-scaled-OlSUB4.tmp_.jpg
END:VEVENT
END:VCALENDAR