BEGIN:VCALENDAR
VERSION:2.0
PRODID:-//The Exchange Food Hall - ECPv6.15.17//NONSGML v1.0//EN
CALSCALE:GREGORIAN
METHOD:PUBLISH
X-ORIGINAL-URL:https://theexchangehall.com
X-WR-CALDESC:Events for The Exchange Food Hall
REFRESH-INTERVAL;VALUE=DURATION:PT1H
X-Robots-Tag:noindex
X-PUBLISHED-TTL:PT1H
BEGIN:VTIMEZONE
TZID:America/Chicago
BEGIN:DAYLIGHT
TZOFFSETFROM:-0600
TZOFFSETTO:-0500
TZNAME:CDT
DTSTART:20230312T080000
END:DAYLIGHT
BEGIN:STANDARD
TZOFFSETFROM:-0500
TZOFFSETTO:-0600
TZNAME:CST
DTSTART:20231105T070000
END:STANDARD
BEGIN:DAYLIGHT
TZOFFSETFROM:-0600
TZOFFSETTO:-0500
TZNAME:CDT
DTSTART:20240310T080000
END:DAYLIGHT
BEGIN:STANDARD
TZOFFSETFROM:-0500
TZOFFSETTO:-0600
TZNAME:CST
DTSTART:20241103T070000
END:STANDARD
BEGIN:DAYLIGHT
TZOFFSETFROM:-0600
TZOFFSETTO:-0500
TZNAME:CDT
DTSTART:20250309T080000
END:DAYLIGHT
BEGIN:STANDARD
TZOFFSETFROM:-0500
TZOFFSETTO:-0600
TZNAME:CST
DTSTART:20251102T070000
END:STANDARD
END:VTIMEZONE
BEGIN:VEVENT
DTSTART;TZID=America/Chicago:20241010T190000
DTEND;TZID=America/Chicago:20241010T220000
DTSTAMP:20260419T080551
CREATED:20241002T154028Z
LAST-MODIFIED:20241004T193648Z
UID:283455-1728586800-1728597600@theexchangehall.com
SUMMARY:Dallas Stars Watch Party
DESCRIPTION:Kickoff the season the right way at a Dallas Stars Watch Party in the District. \nWatch the Dallas Stars take on Nashville on our 104-ft Media Wall and take part in the fun activities all night. Experience DJ beats all game long\, photo ops\, and lawn games. Plus\, giveaways and appearances by the Ice Girls and your favorite Victor E. Green. \nELEVATE YOUR EXPERIENCE\nThe ultimate watch party experience from the best seats in the house! VIP table reservations on the 2nd floor of The Exchange Food Hall includes: \n\nPrivate table with your own cocktail server\n1 beer bucket with Miller Lite\nCharcuterie board & light snacks\nPlus\, more surprises throughout the season\n\nVIP TABLES \nSelf-parking is available at the 1212 Jackson Street garage. It’s complimentary with District merchant validation from The Exchange Food Hall\, Cowboy Chow\, or the AT&T Store.
URL:https://theexchangehall.com/event/dallas-stars-watch-party-10-10-24/
LOCATION:AT&T Discovery District\, 308 S Akard St\, Dallas\, TX\, 75202
CATEGORIES:Food & Drink,Kids & Family,Nightlife,Sports
ATTACH;FMTTYPE=image/jpeg:https://theexchangehall.com/wp-content/uploads/2024/09/ATTDD_STARS_COVER_1-scaled.jpg
END:VEVENT
BEGIN:VEVENT
DTSTART;TZID=America/Chicago:20241010T193000
DTEND;TZID=America/Chicago:20241010T220000
DTSTAMP:20260419T080551
CREATED:20241001T144000Z
LAST-MODIFIED:20241001T145427Z
UID:283465-1728588600-1728597600@theexchangehall.com
SUMMARY:Speed Dating 2.0
DESCRIPTION:CitySwoon’s unique and successful matched speed dating comes to the popular AT&T Discovery District\, at Cowboy Chow! Experience our fresh take on traditional speed dating in a fantastic new venue! \nFill out a profile in under 5 minutes and be matched on a series of 6-8 quick-fire date rounds to THE most compatible singles in the room. \nCheck-in is on your phone\, with NO match cards\, drink tokens\, paper or pens required – just bring your phone and your great attitude! So\, please ensure it’s fully charged. \nGET TICKETS \n \nThe Venue\nJoin us at the AT&T Discovery District and experience our newest restaurant\, Cowboy Chow\, features cuisine inspired by the native ingredients and traditional recipes of regions in the golden belt from Mexico to Montana \nThe Event:\n\nYou will experience a series of relaxed mini-dates selected for you each round by an intelligent algorithm live at the event.\nHosted by a friendly and professional team.\nHandpicked\, top bar with a welcoming atmosphere.\nConnect freely with your mutual matches the next day on CitySwoon.\nOpportunity to connect with the other participants you don’t date on the night.\n\nWhy CitySwoon?\nThe success rate is higher than both online dating and traditional speed dating! But don’t let the tech fool you – this is all about meeting REAL people in REAL life! \n\nOver 95% receive a mutual match\nA closely-managed balance of men & women – we work very hard at it!\nBigger events mean better events.\nOver 8 years of experience! Many thousands of events plus hundreds of thousands of matches\, relationships and marriages!\nMeticulously planned events – we don’t want to waste your time with cancellations\, so we only list the events we’re very confident will run.\nNever date the same person twice – our system remembers who you’ve already met so you’ll always have a new person to meet on each date round! (This is for real life and virtual events too). So\, book into several events with confidence.\n\nFun fact: CitySwoon still holds the Guiness World Record that launched us! \nOther things to note:\n– You will kindly adhere to all host and venue instructions\, including all applicable health guidelines.\n– Self-parking is available at the 1212 Jackson Street garage. It’s complimentary with District merchant validation from The Exchange Food Hall\, Cowboy Chow\, or the AT&T Store.\n* A completed CitySwoon simple profile is required to participate. Tickets will NOT be available at the door. Tickets are limited by venue capacity and high demand.\n**To support our venue partner\, there is a 1 drink or food item minimum.\n***A cancellation on the day of the event or a no-show on the night will result in a $19 cancellation/no-show charge being taken from your card.\n****Tickets are non-refundable\, and all purchases are final. To receive an event credit or ticket transfer\, please contact CitySwoon Customer Service team at least 7 days prior to the event date. CitySwoon Terms & Conditions apply. See FAQs for details.
URL:https://theexchangehall.com/event/speed-dating-2-0/
LOCATION:Cowboy Chow\, 311 S Akard St\, Dallas\, TX\, 75202\, United States
CATEGORIES:Food & Drink,Nightlife
ATTACH;FMTTYPE=image/webp:https://theexchangehall.com/wp-content/uploads/2024/10/singles-dating-event-near-me.webp
END:VEVENT
END:VCALENDAR