BEGIN:VCALENDAR
VERSION:2.0
PRODID:-//The Exchange Food Hall - ECPv6.15.17//NONSGML v1.0//EN
CALSCALE:GREGORIAN
METHOD:PUBLISH
X-ORIGINAL-URL:https://theexchangehall.com
X-WR-CALDESC:Events for The Exchange Food Hall
REFRESH-INTERVAL;VALUE=DURATION:PT1H
X-Robots-Tag:noindex
X-PUBLISHED-TTL:PT1H
BEGIN:VTIMEZONE
TZID:America/Chicago
BEGIN:DAYLIGHT
TZOFFSETFROM:-0600
TZOFFSETTO:-0500
TZNAME:CDT
DTSTART:20240310T080000
END:DAYLIGHT
BEGIN:STANDARD
TZOFFSETFROM:-0500
TZOFFSETTO:-0600
TZNAME:CST
DTSTART:20241103T070000
END:STANDARD
BEGIN:DAYLIGHT
TZOFFSETFROM:-0600
TZOFFSETTO:-0500
TZNAME:CDT
DTSTART:20250309T080000
END:DAYLIGHT
BEGIN:STANDARD
TZOFFSETFROM:-0500
TZOFFSETTO:-0600
TZNAME:CST
DTSTART:20251102T070000
END:STANDARD
BEGIN:DAYLIGHT
TZOFFSETFROM:-0600
TZOFFSETTO:-0500
TZNAME:CDT
DTSTART:20260308T080000
END:DAYLIGHT
BEGIN:STANDARD
TZOFFSETFROM:-0500
TZOFFSETTO:-0600
TZNAME:CST
DTSTART:20261101T070000
END:STANDARD
BEGIN:DAYLIGHT
TZOFFSETFROM:-0600
TZOFFSETTO:-0500
TZNAME:CDT
DTSTART:20270314T080000
END:DAYLIGHT
BEGIN:STANDARD
TZOFFSETFROM:-0500
TZOFFSETTO:-0600
TZNAME:CST
DTSTART:20271107T070000
END:STANDARD
END:VTIMEZONE
BEGIN:VEVENT
DTSTART;TZID=America/Chicago:20251231T220000
DTEND;TZID=America/Chicago:20260101T020000
DTSTAMP:20260421T152330
CREATED:20251230T135330Z
LAST-MODIFIED:20251230T135841Z
UID:284215-1767218400-1767232800@theexchangehall.com
SUMMARY:NYE 2025: Moore & B: Vibe District
DESCRIPTION:Celebrate New Year’s Eve at AT&T Discovery District as Moore & B transforms the district into a multi-stage\, festival-style party with DJs\, food\, bars\, and a special midnight surprise. \nEnjoy indoor and outdoor zones\, a calming Reset Room\, and an exclusive VIP experience with open bar and premium views. \nTICKETS \n\nSelf-parking is available at the 1212 Jackson Street garage. It’s complimentary with District merchant validation from The Exchange Food Hall\, Cowboy Chow\, or the AT&T Store.
URL:https://theexchangehall.com/event/nye-2026/
LOCATION:AT&T Discovery District\, 308 S Akard St\, Dallas\, TX\, 75202
CATEGORIES:Food & Drink,Nightlife
ATTACH;FMTTYPE=image/jpeg:https://theexchangehall.com/wp-content/uploads/2024/10/THEEXCHANGE_HOLIDAY_PHOTOSHOOT-075-scaled-e1728074658663.jpg
ORGANIZER;CN="Moore in the City":MAILTO:brandon@mooreindallas.com
END:VEVENT
END:VCALENDAR