BEGIN:VCALENDAR
VERSION:2.0
PRODID:-//The Exchange Food Hall - ECPv6.15.17//NONSGML v1.0//EN
CALSCALE:GREGORIAN
METHOD:PUBLISH
X-WR-CALNAME:The Exchange Food Hall
X-ORIGINAL-URL:https://theexchangehall.com
X-WR-CALDESC:Events for The Exchange Food Hall
REFRESH-INTERVAL;VALUE=DURATION:PT1H
X-Robots-Tag:noindex
X-PUBLISHED-TTL:PT1H
BEGIN:VTIMEZONE
TZID:America/Chicago
BEGIN:DAYLIGHT
TZOFFSETFROM:-0600
TZOFFSETTO:-0500
TZNAME:CDT
DTSTART:20190310T080000
END:DAYLIGHT
BEGIN:STANDARD
TZOFFSETFROM:-0500
TZOFFSETTO:-0600
TZNAME:CST
DTSTART:20191103T070000
END:STANDARD
BEGIN:DAYLIGHT
TZOFFSETFROM:-0600
TZOFFSETTO:-0500
TZNAME:CDT
DTSTART:20200308T080000
END:DAYLIGHT
BEGIN:STANDARD
TZOFFSETFROM:-0500
TZOFFSETTO:-0600
TZNAME:CST
DTSTART:20201101T070000
END:STANDARD
BEGIN:DAYLIGHT
TZOFFSETFROM:-0600
TZOFFSETTO:-0500
TZNAME:CDT
DTSTART:20210314T080000
END:DAYLIGHT
BEGIN:STANDARD
TZOFFSETFROM:-0500
TZOFFSETTO:-0600
TZNAME:CST
DTSTART:20211107T070000
END:STANDARD
BEGIN:DAYLIGHT
TZOFFSETFROM:-0600
TZOFFSETTO:-0500
TZNAME:CDT
DTSTART:20220313T080000
END:DAYLIGHT
BEGIN:STANDARD
TZOFFSETFROM:-0500
TZOFFSETTO:-0600
TZNAME:CST
DTSTART:20221106T070000
END:STANDARD
END:VTIMEZONE
BEGIN:VEVENT
DTSTART;TZID=America/Chicago:20210510T100000
DTEND;TZID=America/Chicago:20210524T210000
DTSTAMP:20260424T213058
CREATED:20210902T212633Z
LAST-MODIFIED:20221130T214628Z
UID:234562-1620640800-1621890000@theexchangehall.com
SUMMARY:The Story of Late Night
DESCRIPTION:The AT&T Discovery District brought you the set of the legendary Johnny Carson from the Tonight Show. \nRe-live the experience here. \n 
URL:https://theexchangehall.com/event/the-story-of-late-night/
LOCATION:At&t Showcase\, 208 S Akard Street Lobby\, Dallas\, TX\, 75202
CATEGORIES:TV & Film
ATTACH;FMTTYPE=image/jpeg:https://theexchangehall.com/wp-content/uploads/2022/06/late-night-nw9Qt6.tmp_.jpg
END:VEVENT
BEGIN:VEVENT
DTSTART;TZID=America/Chicago:20210208T110000
DTEND;TZID=America/Chicago:20210227T210000
DTSTAMP:20260424T213058
CREATED:20210902T212633Z
LAST-MODIFIED:20221130T214627Z
UID:234564-1612782000-1614459600@theexchangehall.com
SUMMARY:Dream In Black
DESCRIPTION:AT&T Dream In Black was proud to present 2021 Black Future Makers\, a celebration of the dreams and the future made possible by more than 400 years of Black history\, culture and contributions. Imagery for the installation was produced by local artist Temi Coker. \nRe-live the experience here.
URL:https://theexchangehall.com/event/dream-in-black/
LOCATION:AT&T Experience Store\, 308 S Akard St Ste. 100\, Dallas\, TX\, 75202\, United States
CATEGORIES:Art,Education
ATTACH;FMTTYPE=image/jpeg:https://theexchangehall.com/wp-content/uploads/2022/06/BFM-afu59c.tmp_.jpg
END:VEVENT
BEGIN:VEVENT
DTSTART;TZID=America/Chicago:20201222T110000
DTEND;TZID=America/Chicago:20210227T210000
DTSTAMP:20260424T213058
CREATED:20210902T212632Z
LAST-MODIFIED:20221130T214630Z
UID:234561-1608634800-1614459600@theexchangehall.com
SUMMARY:Wonder Woman 1984
DESCRIPTION:The District was full of Wonder Woman history\, trivia games\, props\, statues and costumes from the movie. Turns out\, you can still experience it all through virtual reality on Oculus TV & YouTube VR. \nRe-live the experience here.
URL:https://theexchangehall.com/event/wonder-woman-1984/
LOCATION:AT&T Discovery District\, 308 S Akard St\, Dallas\, TX\, 75202
CATEGORIES:Kids & Family,Technology,TV & Film
ATTACH;FMTTYPE=image/jpeg:https://theexchangehall.com/wp-content/uploads/2022/06/WW-1-DNMFdi.tmp_.jpg
END:VEVENT
BEGIN:VEVENT
DTSTART;TZID=America/Chicago:20201128T110000
DTEND;TZID=America/Chicago:20210525T210000
DTSTAMP:20260424T213058
CREATED:20210902T212633Z
LAST-MODIFIED:20221130T214626Z
UID:234563-1606561200-1621976400@theexchangehall.com
SUMMARY:Big Bang Theory
DESCRIPTION:The AT&T Discovery District partnered with Warner Bros. Television to bring the Big Bang Theory’s beloved Comic Center of Pasadena to Texas for fans of the show to have an experience that went off with a big bang. \n\n\nRe-live the experience here.
URL:https://theexchangehall.com/event/big-bang-theory/
LOCATION:AT&T Experience Store\, 308 S Akard St Ste. 100\, Dallas\, TX\, 75202\, United States
CATEGORIES:Kids & Family,TV & Film
ATTACH;FMTTYPE=image/jpeg:https://theexchangehall.com/wp-content/uploads/2022/06/BBT-XRTFP9.tmp_.jpg
END:VEVENT
END:VCALENDAR