BEGIN:VCALENDAR
VERSION:2.0
PRODID:-//The Exchange Food Hall - ECPv6.15.17//NONSGML v1.0//EN
CALSCALE:GREGORIAN
METHOD:PUBLISH
X-ORIGINAL-URL:https://theexchangehall.com
X-WR-CALDESC:Events for The Exchange Food Hall
REFRESH-INTERVAL;VALUE=DURATION:PT1H
X-Robots-Tag:noindex
X-PUBLISHED-TTL:PT1H
BEGIN:VTIMEZONE
TZID:America/Chicago
BEGIN:DAYLIGHT
TZOFFSETFROM:-0600
TZOFFSETTO:-0500
TZNAME:CDT
DTSTART:20210314T080000
END:DAYLIGHT
BEGIN:STANDARD
TZOFFSETFROM:-0500
TZOFFSETTO:-0600
TZNAME:CST
DTSTART:20211107T070000
END:STANDARD
BEGIN:DAYLIGHT
TZOFFSETFROM:-0600
TZOFFSETTO:-0500
TZNAME:CDT
DTSTART:20220313T080000
END:DAYLIGHT
BEGIN:STANDARD
TZOFFSETFROM:-0500
TZOFFSETTO:-0600
TZNAME:CST
DTSTART:20221106T070000
END:STANDARD
BEGIN:DAYLIGHT
TZOFFSETFROM:-0600
TZOFFSETTO:-0500
TZNAME:CDT
DTSTART:20230312T080000
END:DAYLIGHT
BEGIN:STANDARD
TZOFFSETFROM:-0500
TZOFFSETTO:-0600
TZNAME:CST
DTSTART:20231105T070000
END:STANDARD
END:VTIMEZONE
BEGIN:VEVENT
DTSTART;TZID=America/Chicago:20220803T193000
DTEND;TZID=America/Chicago:20220803T203000
DTSTAMP:20260421T114833
CREATED:20220720T230511Z
LAST-MODIFIED:20221130T214505Z
UID:245896-1659555000-1659558600@theexchangehall.com
SUMMARY:Wellness Wednesday: I AM LIFTED
DESCRIPTION:Experience an empowering workout from I AM LIFTED Fitness. \nFounder Antoine Howard will take you through a HIIT session to give you a boost! Voted Dallas BEST FITNESS BOOTCAMP 2021 by Dallas Observer. \n  \nSelf-parking is available at the 1212 Jackson Street garage. It’s complimentary with District merchant validation from the Exchange\, Jaxon Beer Garden\, or the Experience Store. \n  \nReservations are now closed for the first session on August 3\, but don’t worry because I AM LIFTED is back on August 24. RSVP while you can!
URL:https://theexchangehall.com/event/wellness-wednesday-i-am-lifted/
LOCATION:AT&T Discovery District\, 308 S Akard St\, Dallas\, TX\, 75202
CATEGORIES:Fitness
ATTACH;FMTTYPE=image/jpeg:https://theexchangehall.com/wp-content/uploads/2022/07/ATTDD_WW-lifted-2-scaled-YCcTMc.tmp_.jpg
END:VEVENT
BEGIN:VEVENT
DTSTART;TZID=America/Chicago:20220729T080000
DTEND;TZID=America/Chicago:20220905T200000
DTSTAMP:20260421T114833
CREATED:20220801T190647Z
LAST-MODIFIED:20221130T214500Z
UID:248660-1659081600-1662408000@theexchangehall.com
SUMMARY:The Pictures Generation
DESCRIPTION:Explore postmodern thought from The Pictures Generation this August. A collection of artists influenced by media\, photography and film\, The Pictures Generation explored ideas of individualism and popular culture in the late 20th century. \nFirst showcased at The Metropolitan Museum of Art in NYC\, these multimedia works will be on display in the AT&T Showcase now through September 5. \nHours:\nMon – Fri: 8 a.m. – 8 p.m.\nSat: 10 a.m. – 8 p.m.\nSun: 12 p.m. – 6 p.m. \n  \nSelf-parking is available at the 1212 Jackson Street garage. It’s complimentary with District merchant validation from the Exchange\, Jaxon Beer Garden\, or the Experience Store.
URL:https://theexchangehall.com/event/the-pictures-generation/
LOCATION:At&t Showcase\, 208 S Akard Street Lobby\, Dallas\, TX\, 75202
CATEGORIES:Art,Education
ATTACH;FMTTYPE=image/jpeg:https://theexchangehall.com/wp-content/uploads/2022/08/ATT_SHOWCASE_HEAD-qEJ4uD.tmp_.jpg
END:VEVENT
BEGIN:VEVENT
DTSTART;TZID=America/Chicago:20220727T190000
DTEND;TZID=America/Chicago:20220727T200000
DTSTAMP:20260421T114833
CREATED:20220629T230512Z
LAST-MODIFIED:20221130T214507Z
UID:241559-1658948400-1658952000@theexchangehall.com
SUMMARY:Wellness Wednesday: Black Swan Yoga
DESCRIPTION:Y’all love yoga\, and we love bringing it to you! Emily from Black Swan Yoga will lead you in a beginner flow class on the lawn. \nGrab your mat\, let’s flow!
URL:https://theexchangehall.com/event/wellness-wednesday-black-swan-yoga/
LOCATION:AT&T Discovery District\, 308 S Akard St\, Dallas\, TX\, 75202
CATEGORIES:Fitness
ATTACH;FMTTYPE=image/jpeg:https://theexchangehall.com/wp-content/uploads/2022/06/ATT_WEB_BS_0727-A3yA4H.tmp_.jpg
END:VEVENT
BEGIN:VEVENT
DTSTART;TZID=America/Chicago:20220724T193000
DTEND;TZID=America/Chicago:20220724T213000
DTSTAMP:20260421T114833
CREATED:20220629T230516Z
LAST-MODIFIED:20221130T214509Z
UID:241566-1658691000-1658698200@theexchangehall.com
SUMMARY:Movies On The Lawn: The Incredibles
DESCRIPTION:Make Incredible memories at the District this summer during our Movies On The Lawn series. \nWatch this Disney classic on our Media Wall! Enjoy kid-friendly fancy popcorn and cooling coconut raspberry soda while you watch.  \nSelf-parking is available at the 1212 Jackson Street garage. It’s complimentary with District merchant validation from the Exchange\, Jaxon Beer Garden\, or the Experience Store. \nRSVP Today!\nPlease enable JavaScript in your browser to complete this form. \n\nName * \n\nFirst\nLast\n\n\nEmail *\nQuantity123456\n\n\nRSVP
URL:https://theexchangehall.com/event/movies-on-the-lawn-the-incredibles/
LOCATION:AT&T Discovery District\, 308 S Akard St\, Dallas\, TX\, 75202
CATEGORIES:Food & Drink,Kids & Family,Nightlife,TV & Film
ATTACH;FMTTYPE=image/jpeg:https://theexchangehall.com/wp-content/uploads/2022/07/ATTDD_MOVIENIGHT_INCREDIBLES-1-scaled-UxOAwl.tmp_.jpg
END:VEVENT
BEGIN:VEVENT
DTSTART;TZID=America/Chicago:20220720T190000
DTEND;TZID=America/Chicago:20220720T200000
DTSTAMP:20260421T114833
CREATED:20221130T214506Z
LAST-MODIFIED:20221130T214506Z
UID:280975-1658343600-1658347200@theexchangehall.com
SUMMARY:Wellness Wednesday: Black Swan Yoga
DESCRIPTION:Y’all love yoga\, and we love bringing it to you! Alondra from Black Swan Yoga will lead you in a beginner flow class on the lawn. \nGrab your mat\, let’s flow!
URL:https://theexchangehall.com/event/wellness-wednesday-black-swan-yoga-2/
ATTACH;FMTTYPE=image/jpeg:https://theexchangehall.com/wp-content/uploads/2022/06/ATT_WEB_BS_0720-Rt193S.tmp_.jpg
END:VEVENT
BEGIN:VEVENT
DTSTART;TZID=America/Chicago:20220717T180000
DTEND;TZID=America/Chicago:20220717T210000
DTSTAMP:20260421T114833
CREATED:20220629T230517Z
LAST-MODIFIED:20221130T214509Z
UID:241568-1658080800-1658091600@theexchangehall.com
SUMMARY:Summer Night Market
DESCRIPTION:Support local vendors and get in touch with your crafty side! This market is brought to you by Jackson the Brand.  \nShop for local art and jewelry\, groove to live music in the Globe\, and enjoy an inspiring summer evening. \nVendors\nAngie’s Pet Bakery \nTuffBaby’s Organics \nCharmaine Marshall Designs \nConcrete Dream \nJessamin Jensen \nStratus Boutique \nWickT Candle Co \nLolita Accessories \nHenry’s Daughter \nJackson The Brand \nZafiro Jewellers \nB.Stellar Jewelry \nN.Y.M.F. by CO
URL:https://theexchangehall.com/event/summer-night-market/
LOCATION:AT&T Discovery District\, 308 S Akard St\, Dallas\, TX\, 75202
CATEGORIES:Art,Kids & Family,Music,Nightlife
ATTACH;FMTTYPE=image/jpeg:https://theexchangehall.com/wp-content/uploads/2022/06/ATTDD_DISTRICTMARKET_JUNE12-17-Xi8j94.tmp_.jpg
END:VEVENT
BEGIN:VEVENT
DTSTART;TZID=America/Chicago:20220713T193000
DTEND;TZID=America/Chicago:20220713T213000
DTSTAMP:20260421T114833
CREATED:20220629T230515Z
LAST-MODIFIED:20221130T214508Z
UID:241564-1657740600-1657747800@theexchangehall.com
SUMMARY:Movies On The Lawn: Casablanca
DESCRIPTION:Make memories at the District this summer during our Movies On The Lawn series. \nWatch the timeless romance Casablanca on our 104 ft. Media Wall and enjoy delicious drinks and hummus from Baboushi.  \nPre-order your dinner from Baboushi now. \nSelf-parking is available at the 1212 Jackson Street garage. It’s complimentary with District merchant validation from the Exchange\, Jaxon Beer Garden\, or the Experience Store. \nRSVP Today!\nPlease enable JavaScript in your browser to complete this form. \n\nName * \n\nFirst\nLast\n\n\nEmail *\nQuantity123456\n\n\nRSVP
URL:https://theexchangehall.com/event/movies-on-the-lawn-casablanca/
LOCATION:AT&T Discovery District\, 308 S Akard St\, Dallas\, TX\, 75202
CATEGORIES:Food & Drink,Kids & Family,Nightlife,TV & Film
ATTACH;FMTTYPE=image/jpeg:https://theexchangehall.com/wp-content/uploads/2022/06/ATT_WEB_MOL_CASA-gTYnAB.tmp_.jpg
END:VEVENT
BEGIN:VEVENT
DTSTART;TZID=America/Chicago:20220706T190000
DTEND;TZID=America/Chicago:20220706T200000
DTSTAMP:20260421T114833
CREATED:20221130T214506Z
LAST-MODIFIED:20221130T214506Z
UID:280976-1657134000-1657137600@theexchangehall.com
SUMMARY:Wellness Wednesday: Black Swan Yoga
DESCRIPTION:Y’all love yoga\, and we love bringing it to you! Alondra and Emily from Black Swan Yoga will lead you in a beginner flow class on the lawn. \nGrab your mat\, let’s flow!
URL:https://theexchangehall.com/event/wellness-wednesday-black-swan-yoga-3/
ATTACH;FMTTYPE=image/jpeg:https://theexchangehall.com/wp-content/uploads/2022/06/ATT_WEB_BS_0706-Z0RVpr.tmp_.jpg
END:VEVENT
BEGIN:VEVENT
DTSTART;TZID=America/Chicago:20220704T160000
DTEND;TZID=America/Chicago:20220704T220000
DTSTAMP:20260421T114833
CREATED:20220509T230507Z
LAST-MODIFIED:20221130T214520Z
UID:238430-1656950400-1656972000@theexchangehall.com
SUMMARY:Red\, White\, & Groove starring Old 97's
DESCRIPTION:Experience Red\, White & Groove – a full day of music\, food and fun. Topped off with a concert from the iconic Dallas band\, Old 97’s\, and a digital fireworks show! \nTake A Bite Out Of The Day\nBring your patriotic spirit for a festive day on the lawn. You’ll play yard games\, sip drink specials\, and nosh on BBQ and other treats. Check out Jaxon Beer Garden\, have Happy Hour all day\,  $14 Freedom-Ritas and a crab boil. Or head over to The Exchange Hall for a BBQ plate with all the fixins! \nGet Your Groove On\nThe party begins at 4 pm! Live music kicks off with classic Texas country artists Matt Hillyer and Summer Dean. Then South Carolina native Nikki Lane will take the stage and capture your attention with her electric country style. The fun doesn’t stop there. Devon Gilfillian will have you swaying to his soulful vibes. \nExperience The Grand Finale\nRock out to the Old 97’s as they perform a captivating finale complete with a digital fireworks show on the 104′ Media Wall! \nWeather\nThe event will proceed rain or shine. Should it rain\, there will be a covered\, indoor space inside Jaxon Beer Garden and The Exchange Hall. Please note\, umbrellas are allowed if you wish to bring one. \nParking\nSelf-parking is available at 1212 Jackson Street. It’s free with merchant validation. Additionally\, surface lot parking is available nearby at 1500 Jackson Street.\n 
URL:https://theexchangehall.com/event/red-white-groove/
LOCATION:AT&T Discovery District\, 308 S Akard St\, Dallas\, TX\, 75202
CATEGORIES:Food & Drink,Music,Nightlife
ATTACH;FMTTYPE=image/jpeg:https://theexchangehall.com/wp-content/uploads/2022/05/JULY4_22_WEB_BANNER_NO_TEXT-copy-22WxXl.tmp_.jpg
END:VEVENT
BEGIN:VEVENT
DTSTART;TZID=America/Chicago:20220629T180000
DTEND;TZID=America/Chicago:20220629T190000
DTSTAMP:20260421T114833
CREATED:20220523T230510Z
LAST-MODIFIED:20221130T214518Z
UID:238620-1656525600-1656529200@theexchangehall.com
SUMMARY:Wellness Wednesday: afrikoPOP Fitness
DESCRIPTION:Dance it out with Koko Ananti from AfrikoPOP Fitness this June! She combines modern west African dance with body sculpting\, all set to an Afropop beat.
URL:https://theexchangehall.com/event/wellness-wednesday-afrikopop-fitness/
LOCATION:AT&T Discovery District\, 308 S Akard St\, Dallas\, TX\, 75202
CATEGORIES:Fitness,Music
ATTACH;FMTTYPE=image/jpeg:https://theexchangehall.com/wp-content/uploads/2022/05/KOKOWEBSITE_2-HSiywi.tmp_.jpg
END:VEVENT
BEGIN:VEVENT
DTSTART;TZID=America/Chicago:20220626T193000
DTEND;TZID=America/Chicago:20220626T213000
DTSTAMP:20260421T114833
CREATED:20220525T190506Z
LAST-MODIFIED:20221130T214513Z
UID:238662-1656271800-1656279000@theexchangehall.com
SUMMARY:Movies On The Lawn: Willy Wonka & The Chocolate Factory
DESCRIPTION:Make memories at the District this summer during our Movies On The Lawn series. \nWatch Willy Wonka & The Chocolate Factory\, the 1971 classic kids & family film\, on our 104 ft. Media Wall. \nArrive early to purchase specialty Wonka Golden Tickets and Wonka Wrappers. Plus\, enjoy complimentary Wonka Candy Bowls. \nRSVP NOW
URL:https://theexchangehall.com/event/movies-on-the-lawn-willy-wonka-the-chocolate-factory/
LOCATION:AT&T Discovery District\, 308 S Akard St\, Dallas\, TX\, 75202
CATEGORIES:Food & Drink,Kids & Family,Nightlife,TV & Film
ATTACH;FMTTYPE=image/jpeg:https://theexchangehall.com/wp-content/uploads/2022/05/willy-wonka-scaled-JD5Otr.tmp_.jpg
END:VEVENT
BEGIN:VEVENT
DTSTART;TZID=America/Chicago:20220624T180000
DTEND;TZID=America/Chicago:20220624T220000
DTSTAMP:20260421T114833
CREATED:20220526T230508Z
LAST-MODIFIED:20230606T035230Z
UID:238685-1656093600-1656108000@theexchangehall.com
SUMMARY:2022 Turn Up The Love Tour
DESCRIPTION:For information about the 2023 Turn Up The Love Tour stop in Dallas\, visit turnupthelove.com/events.\n\nAT&T is bringing their Turn Up the Love Tour to Dallas this summer. Join us and host\, Drag superstar\, Silky Nutmeg Ganache for a concert in the District. \nThe concert will feature Braya\, The Last Artful\, Allison Ponthier and headliner VINCINT.
URL:https://theexchangehall.com/event/pride-night/
LOCATION:AT&T Discovery District\, 308 S Akard St\, Dallas\, TX\, 75202
CATEGORIES:Art,Music,Nightlife
ATTACH;FMTTYPE=image/jpeg:https://theexchangehall.com/wp-content/uploads/2022/05/PRIDE_NIGHT_WEB_BANNER-WsZwrx.tmp_.jpg
END:VEVENT
BEGIN:VEVENT
DTSTART;TZID=America/Chicago:20220622T190000
DTEND;TZID=America/Chicago:20220622T200000
DTSTAMP:20260421T114833
CREATED:20220523T230508Z
LAST-MODIFIED:20221130T214517Z
UID:238617-1655924400-1655928000@theexchangehall.com
SUMMARY:Wellness Wednesday: Yoga On the Lawn
DESCRIPTION:Led by instructor Macy Stover of Cowboys Fit\, beginners and advanced yogis alike can spend some time stretching it out on The Lawn! \nBring your water and good vibes\, we’ll bring the mats.
URL:https://theexchangehall.com/event/wellness-wednesday-yoga-on-the-lawn/
LOCATION:AT&T Discovery District\, 308 S Akard St\, Dallas\, TX\, 75202
CATEGORIES:Fitness
ATTACH;FMTTYPE=image/jpeg:https://theexchangehall.com/wp-content/uploads/2022/05/YOGA_ON_THE_LAWN_BANNER-ATkm5x.tmp_.jpg
END:VEVENT
BEGIN:VEVENT
DTSTART;TZID=America/Chicago:20220619T190000
DTEND;TZID=America/Chicago:20220619T210000
DTSTAMP:20260421T114834
CREATED:20220524T230507Z
LAST-MODIFIED:20221130T214514Z
UID:238640-1655665200-1655672400@theexchangehall.com
SUMMARY:Movies On The Lawn: Black Panther
DESCRIPTION:Make memories at the District this summer during our Movies On The Lawn series. \nWatch Black Panther\, the action-packed Marvel film\, on our 104 ft. Media Wall. \nArrive early to purchase a specialty food & drink cooler from Jaxon Beer Garden. This week’s cooler features BBQ and a bucket of beer.
URL:https://theexchangehall.com/event/movies-on-the-lawn-black-panther/
LOCATION:AT&T Discovery District\, 308 S Akard St\, Dallas\, TX\, 75202
CATEGORIES:Food & Drink,Kids & Family,Nightlife,TV & Film
ATTACH;FMTTYPE=image/jpeg:https://theexchangehall.com/wp-content/uploads/2022/05/black-panther-scaled-9gg4rt.tmp_.jpg
END:VEVENT
BEGIN:VEVENT
DTSTART;TZID=America/Chicago:20220619T090000
DTEND;TZID=America/Chicago:20220619T130000
DTSTAMP:20260421T114834
CREATED:20220524T190508Z
LAST-MODIFIED:20221130T214516Z
UID:238636-1655629200-1655643600@theexchangehall.com
SUMMARY:Father's Day In The District
DESCRIPTION:Bring your dad for an epic day filled with BBQ\, a classic car show for a cause\, and an action movie! \nPlus\, shop around at our District market and grab a gift for dad. The fun starts at 9am and goes to 1pm. \nThen catch Black Panther with BBQ from Jaxon on the lawn at 7pm!
URL:https://theexchangehall.com/event/fathers-day-in-the-district/
LOCATION:AT&T Discovery District\, 308 S Akard St\, Dallas\, TX\, 75202
CATEGORIES:Kids & Family
ATTACH;FMTTYPE=image/jpeg:https://theexchangehall.com/wp-content/uploads/2022/05/FATHERSDAYWEBSITEBANNER-VsAEV1.tmp_.jpg
END:VEVENT
BEGIN:VEVENT
DTSTART;TZID=America/Chicago:20220618T180000
DTEND;TZID=America/Chicago:20220618T220000
DTSTAMP:20260421T114834
CREATED:20220526T230507Z
LAST-MODIFIED:20221130T214511Z
UID:238684-1655575200-1655589600@theexchangehall.com
SUMMARY:Juneteenth Celebration
DESCRIPTION:On this special holiday\, you won’t want to miss an evening celebrating African-American culture. \nYou’re invited to a concert and picnic under the stars. Live music in The Globe by local Black artists Medicine Man Revival and DJ Richy.
URL:https://theexchangehall.com/event/juneteenth-celebration/
LOCATION:AT&T Discovery District\, 308 S Akard St\, Dallas\, TX\, 75202
CATEGORIES:Education,Food & Drink,Music,Nightlife
ATTACH;FMTTYPE=image/jpeg:https://theexchangehall.com/wp-content/uploads/2022/05/Junneteenth_WEB_BANNER-ud4cKT.tmp_.jpg
END:VEVENT
BEGIN:VEVENT
DTSTART;TZID=America/Chicago:20220616T150000
DTEND;TZID=America/Chicago:20220616T180000
DTSTAMP:20260421T114834
CREATED:20220616T210125Z
LAST-MODIFIED:20221130T214511Z
UID:238871-1655391600-1655402400@theexchangehall.com
SUMMARY:World Cup Host Cities Announcement Watch Party
DESCRIPTION:Bring the World Cup to Dallas! Be a part of the Host Cities Announcement Watch Party in the District. \nEnjoy a Dallas Cowboys Cheerleaders performance\, a mascot photo op\, and the live announcement on our 104′ Media Wall.
URL:https://theexchangehall.com/event/world-cup-host-cities-announcement-watch-party/
LOCATION:AT&T Discovery District\, 308 S Akard St\, Dallas\, TX\, 75202
CATEGORIES:Sports
ATTACH;FMTTYPE=image/jpeg:https://theexchangehall.com/wp-content/uploads/2022/06/WC_WEB_BANNER-TCIT0F.tmp_.jpg
END:VEVENT
BEGIN:VEVENT
DTSTART;TZID=America/Chicago:20220615T180000
DTEND;TZID=America/Chicago:20220615T190000
DTSTAMP:20260421T114834
CREATED:20220523T230511Z
LAST-MODIFIED:20221130T214519Z
UID:238621-1655316000-1655319600@theexchangehall.com
SUMMARY:Wellness Wednesday: afrikoPOP Fitness
DESCRIPTION:Dance it out with Koko Ananti from AfrikoPOP Fitness this June! She combines modern west African dance with body sculpting\, all set to an Afropop beat. \n 
URL:https://theexchangehall.com/event/wellness-wednesday-afrikopop-fitness-2/
LOCATION:AT&T Discovery District\, 308 S Akard St\, Dallas\, TX\, 75202
CATEGORIES:Fitness,Music
ATTACH;FMTTYPE=image/jpeg:https://theexchangehall.com/wp-content/uploads/2022/05/KOKOWEBSITE_1-uNfovs.tmp_.jpg
END:VEVENT
BEGIN:VEVENT
DTSTART;TZID=America/Chicago:20220614T180000
DTEND;TZID=America/Chicago:20220614T190000
DTSTAMP:20260421T114834
CREATED:20220523T230509Z
LAST-MODIFIED:20221130T214517Z
UID:238618-1655229600-1655233200@theexchangehall.com
SUMMARY:Wellness Wednesday: Cowboys Fit
DESCRIPTION:Feel the burn with a workout from Blaire Lane and Cordell Waddey from Cowboys Fit for Wellness Wednesday! \nThese tough but fun classes use a blend of cardio and strength training to improve your coordination\, balance\, and speed. \n 
URL:https://theexchangehall.com/event/wellness-wednesday-cowboys-fit-5/
LOCATION:AT&T Discovery District\, 308 S Akard St\, Dallas\, TX\, 75202
CATEGORIES:Fitness
ATTACH;FMTTYPE=image/jpeg:https://theexchangehall.com/wp-content/uploads/2022/03/featureWW-2R1tVM.tmp_.jpg
END:VEVENT
BEGIN:VEVENT
DTSTART;TZID=America/Chicago:20220612T170000
DTEND;TZID=America/Chicago:20220612T210000
DTSTAMP:20260421T114834
CREATED:20220526T230509Z
LAST-MODIFIED:20221130T214513Z
UID:238687-1655053200-1655067600@theexchangehall.com
SUMMARY:Artisan Market
DESCRIPTION:Support local vendors and get in touch with your crafty side! This market is brought to you by Happily Ever Crafty.  \nShop for local art and jewelry\, groove to live music by DJ Mike B in the Globe\, and enjoy an inspiring summer evening. \nVendors:  \nLolita Accessories\nCandleWorks by Stacia\nThe Chi Chi Boutique\nPlanted in the House\nOrigami Owl / Think Goodness\nEmLab Stationary\nHolaloha Designs\nAugust Moon Design\nFlower Power Yard Art\nBugambilia Store\nFlawless\nAB LINO\nHard Silver Jewelry\nJMBirdie\nArtesanias Colores de Mexico\nHenry’s Daughter Decor\nBlase Boutique\nJL McInnis Originals\nShopMichii\nMakeup & Cocktails Cosmetics\nPassionately Created Events\nDuchess Bling Boutique\nAmber Standards\nJoyus Official\nYhoaki\nCamila & D Clay\nAura Amoore
URL:https://theexchangehall.com/event/artisan-market/
LOCATION:AT&T Discovery District\, 308 S Akard St\, Dallas\, TX\, 75202
CATEGORIES:Art,Kids & Family,Music,Nightlife
ATTACH;FMTTYPE=image/jpeg:https://theexchangehall.com/wp-content/uploads/2022/05/ARTISANMARKET_WEB_BANNER-7IhiJ4.tmp_.jpg
END:VEVENT
BEGIN:VEVENT
DTSTART;TZID=America/Chicago:20220611T100000
DTEND;TZID=America/Chicago:20220611T130000
DTSTAMP:20260421T114834
CREATED:20220524T230509Z
LAST-MODIFIED:20221130T214515Z
UID:238643-1654941600-1654952400@theexchangehall.com
SUMMARY:Summer Bash
DESCRIPTION:This Summer Bash is bigger than ever… literally! Head down to the District to go toe-to-toe with your family and friends with larger than life cornhole\, ping pong and skeeball. \nPlus\, jam out to DJ Mike B\, enjoy a fun interactive workshop with Crayola\, get a picture drawn by a caricature artist\, and more.
URL:https://theexchangehall.com/event/summer-bash/
LOCATION:AT&T Discovery District\, 308 S Akard St\, Dallas\, TX\, 75202
CATEGORIES:Food & Drink,Kids & Family,Sports
ATTACH;FMTTYPE=image/jpeg:https://theexchangehall.com/wp-content/uploads/2022/05/SUMMERBASHBANNER-aMGan7.tmp_.jpg
END:VEVENT
BEGIN:VEVENT
DTSTART;TZID=America/Chicago:20220608T190000
DTEND;TZID=America/Chicago:20220608T210000
DTSTAMP:20260421T114834
CREATED:20220524T230508Z
LAST-MODIFIED:20221130T214515Z
UID:238641-1654714800-1654722000@theexchangehall.com
SUMMARY:Movies On The Lawn: Grease
DESCRIPTION:Make memories at the District this summer during our Movies On The Lawn series. \nWatch Grease\, the 1978 American musical romantic comedy film\, on our 104 ft. Media Wall. \nArrive early to purchase a specialty food & drink basket from The Exchange. This week’s basket features burgers and fries from Easy Slider\, Lady Pink and T-Bird cocktails\, and ice cream from Saturday Morning Ice Cream Shop.
URL:https://theexchangehall.com/event/movies-on-the-lawn-grease/
LOCATION:AT&T Discovery District\, 308 S Akard St\, Dallas\, TX\, 75202
CATEGORIES:Food & Drink,Kids & Family,Nightlife,TV & Film
ATTACH;FMTTYPE=image/jpeg:https://theexchangehall.com/wp-content/uploads/2022/05/grease-1-scaled-PQYyyf.tmp_.jpg
END:VEVENT
BEGIN:VEVENT
DTSTART;TZID=America/Chicago:20220608T100000
DTEND;TZID=America/Chicago:20220725T100000
DTSTAMP:20260421T114834
CREATED:20220616T210240Z
LAST-MODIFIED:20221130T214510Z
UID:238926-1654682400-1658743200@theexchangehall.com
SUMMARY:Showcase Pride
DESCRIPTION:Discover some of the most influential artists of the 20th Century when you explore our showcase this Pride Month from 6/8-7/25 \nAndy Warhol and Keith Haring’s famous Pop-Art prints will be on display as well as work by Krista Chalkley and Ted Kincaid. Discover the themes of interconnectedness\, emotion\, belonging and the queer experience this month in the District.
URL:https://theexchangehall.com/event/showcase-pride/
LOCATION:At&t Showcase\, 208 S Akard Street Lobby\, Dallas\, TX\, 75202
CATEGORIES:Art,Education
ATTACH;FMTTYPE=image/jpeg:https://theexchangehall.com/wp-content/uploads/2022/06/1-scaled-FUVE8P.tmp_.jpg
END:VEVENT
BEGIN:VEVENT
DTSTART;TZID=America/Chicago:20220525T180000
DTEND;TZID=America/Chicago:20220525T220000
DTSTAMP:20260421T114834
CREATED:20220503T150506Z
LAST-MODIFIED:20221130T214521Z
UID:238350-1653501600-1653516000@theexchangehall.com
SUMMARY:MexTour Live
DESCRIPTION:MexTour Live returns to Dallas and will take place in the District! The fan fest will be headlined by Intocable and will feature appearances by the Mexican National Team. \n  \nBuy your tickets now!
URL:https://theexchangehall.com/event/mextour-live/
LOCATION:AT&T Discovery District\, 308 S Akard St\, Dallas\, TX\, 75202
CATEGORIES:Music,Nightlife,Sports
ATTACH;FMTTYPE=image/jpeg:https://theexchangehall.com/wp-content/uploads/2022/05/MEXTOURLIVEBANNER-nJkGWq.tmp_.jpg
END:VEVENT
BEGIN:VEVENT
DTSTART;TZID=America/Chicago:20220518T180000
DTEND;TZID=America/Chicago:20220518T190000
DTSTAMP:20260421T114834
CREATED:20220422T030509Z
LAST-MODIFIED:20221130T214524Z
UID:238161-1652896800-1652900400@theexchangehall.com
SUMMARY:Wellness Wednesday
DESCRIPTION:Dance it out with Koko Ananti from AfrikoPOP Fitness this May! She combines modern west African dance with body sculpting\, all set to an Afropop beat. \nThen stick around and have a glass of wine with Koko at Hawthorn during Wine Down! 🍷
URL:https://theexchangehall.com/event/wellness-wednesday/
LOCATION:AT&T Discovery District\, 308 S Akard St\, Dallas\, TX\, 75202
CATEGORIES:Fitness,Music
ATTACH;FMTTYPE=image/jpeg:https://theexchangehall.com/wp-content/uploads/2022/04/Wellness-Wednesday-1-D4dxez.tmp_.jpg
END:VEVENT
BEGIN:VEVENT
DTSTART;TZID=America/Chicago:20220517T110000
DTEND;TZID=America/Chicago:20220517T130000
DTSTAMP:20260421T114834
CREATED:20220427T190507Z
LAST-MODIFIED:20221130T214521Z
UID:238266-1652785200-1652792400@theexchangehall.com
SUMMARY:Therapy Dogs in The District
DESCRIPTION:In celebration of Mental Health Awareness Month\, we’re sharing the love from our four-legged friends! Stop by the District to meet therapy dogs from Pet Partners and learn about the importance of mental health. 
URL:https://theexchangehall.com/event/therapy-dogs-in-the-district/
LOCATION:AT&T Discovery District\, 308 S Akard St\, Dallas\, TX\, 75202
CATEGORIES:Education
ATTACH;FMTTYPE=image/jpeg:https://theexchangehall.com/wp-content/uploads/2022/04/Therapy_Dogs_ATT_BANNER-yWRVKB.tmp_.jpg
END:VEVENT
BEGIN:VEVENT
DTSTART;TZID=America/Chicago:20220517T070000
DTEND;TZID=America/Chicago:20220517T080000
DTSTAMP:20260421T114834
CREATED:20220422T190507Z
LAST-MODIFIED:20221130T214522Z
UID:238183-1652770800-1652774400@theexchangehall.com
SUMMARY:Military Appreciation Month Workout
DESCRIPTION:Join Cowboys Fit in a military-style workout for all active and retired service members in The District.  The exercises will have a tieback to signature workouts from all military branches. \nRSVP NOW
URL:https://theexchangehall.com/event/military-appreciation-month-workout/
LOCATION:AT&T Discovery District\, 308 S Akard St\, Dallas\, TX\, 75202
CATEGORIES:Fitness
ATTACH;FMTTYPE=image/jpeg:https://theexchangehall.com/wp-content/uploads/2022/04/ATTDD_MILITARYWORKOUT_BANNER-eUjL03.tmp_.jpg
END:VEVENT
BEGIN:VEVENT
DTSTART;TZID=America/Chicago:20220515T110000
DTEND;TZID=America/Chicago:20220515T150000
DTSTAMP:20260421T114834
CREATED:20220425T230506Z
LAST-MODIFIED:20221130T214523Z
UID:238233-1652612400-1652626800@theexchangehall.com
SUMMARY:AAPI Celebrations
DESCRIPTION:Join us as we celebrate Asian American and Pacific Islander Heritage Month. \nPerformances of Chinese Opera and dance\, Hula\, Thai dance and Philippine Bamboo Dance will highlight the significant cultural contributions from the AAPI community.
URL:https://theexchangehall.com/event/aapi-celebrations/
LOCATION:AT&T Discovery District\, 308 S Akard St\, Dallas\, TX\, 75202
CATEGORIES:Art,Kids & Family
ATTACH;FMTTYPE=image/jpeg:https://theexchangehall.com/wp-content/uploads/2022/04/AAPIBANNER-scaled-xpaiSf.tmp_.jpg
END:VEVENT
BEGIN:VEVENT
DTSTART;TZID=America/Chicago:20220511T180000
DTEND;TZID=America/Chicago:20220511T190000
DTSTAMP:20260421T114834
CREATED:20220422T030510Z
LAST-MODIFIED:20221130T214525Z
UID:238163-1652292000-1652295600@theexchangehall.com
SUMMARY:Wellness Wednesday
DESCRIPTION:Dance it out with Koko Ananti from AfrikoPOP Fitness this May! She combines modern west African dance with body sculpting\, all set to an Afropop beat. \nThen stick around and have a glass of wine with Koko at Hawthorn during Wine Down! 🍷 \n 
URL:https://theexchangehall.com/event/wellness-wednesday-2/
LOCATION:AT&T Discovery District\, 308 S Akard St\, Dallas\, TX\, 75202
CATEGORIES:Fitness,Music
ATTACH;FMTTYPE=image/jpeg:https://theexchangehall.com/wp-content/uploads/2022/04/Wellness-Wednesday-2-O4HbIb.tmp_.jpg
END:VEVENT
BEGIN:VEVENT
DTSTART;TZID=America/Chicago:20220508T110000
DTEND;TZID=America/Chicago:20220508T160000
DTSTAMP:20260421T114834
CREATED:20220423T150507Z
LAST-MODIFIED:20221130T214524Z
UID:238200-1652007600-1652025600@theexchangehall.com
SUMMARY:Mother's Day
DESCRIPTION:Moms everywhere\, thank you for all you do! We’re celebrating you this Mother’s Day with a beautiful floral wall\, a gif booth\, and a vendor market by Happily Ever Crafty! \n\n\nDon’t forget to order a delicious picnic basket from Rise + Thyme. Each basket will come with a Petal To The Metal flower bouquet \n\nOrder here: https://risenthyme.com/mothers-day-picnic-baskets-2022/
URL:https://theexchangehall.com/event/mothers-day-2/
LOCATION:AT&T Discovery District\, 308 S Akard St\, Dallas\, TX\, 75202
CATEGORIES:Kids & Family
ATTACH;FMTTYPE=image/jpeg:https://theexchangehall.com/wp-content/uploads/2022/04/mothersday-wall-GLaLLE.tmp_.jpg
END:VEVENT
END:VCALENDAR