BEGIN:VCALENDAR
VERSION:2.0
PRODID:-//The Exchange Food Hall - ECPv6.15.17//NONSGML v1.0//EN
CALSCALE:GREGORIAN
METHOD:PUBLISH
X-ORIGINAL-URL:https://theexchangehall.com
X-WR-CALDESC:Events for The Exchange Food Hall
REFRESH-INTERVAL;VALUE=DURATION:PT1H
X-Robots-Tag:noindex
X-PUBLISHED-TTL:PT1H
BEGIN:VTIMEZONE
TZID:America/Chicago
BEGIN:DAYLIGHT
TZOFFSETFROM:-0600
TZOFFSETTO:-0500
TZNAME:CDT
DTSTART:20210314T080000
END:DAYLIGHT
BEGIN:STANDARD
TZOFFSETFROM:-0500
TZOFFSETTO:-0600
TZNAME:CST
DTSTART:20211107T070000
END:STANDARD
BEGIN:DAYLIGHT
TZOFFSETFROM:-0600
TZOFFSETTO:-0500
TZNAME:CDT
DTSTART:20220313T080000
END:DAYLIGHT
BEGIN:STANDARD
TZOFFSETFROM:-0500
TZOFFSETTO:-0600
TZNAME:CST
DTSTART:20221106T070000
END:STANDARD
BEGIN:DAYLIGHT
TZOFFSETFROM:-0600
TZOFFSETTO:-0500
TZNAME:CDT
DTSTART:20230312T080000
END:DAYLIGHT
BEGIN:STANDARD
TZOFFSETFROM:-0500
TZOFFSETTO:-0600
TZNAME:CST
DTSTART:20231105T070000
END:STANDARD
END:VTIMEZONE
BEGIN:VEVENT
DTSTART;TZID=America/Chicago:20220518T180000
DTEND;TZID=America/Chicago:20220518T190000
DTSTAMP:20260421T141945
CREATED:20220422T030509Z
LAST-MODIFIED:20221130T214524Z
UID:238161-1652896800-1652900400@theexchangehall.com
SUMMARY:Wellness Wednesday
DESCRIPTION:Dance it out with Koko Ananti from AfrikoPOP Fitness this May! She combines modern west African dance with body sculpting\, all set to an Afropop beat. \nThen stick around and have a glass of wine with Koko at Hawthorn during Wine Down! 🍷
URL:https://theexchangehall.com/event/wellness-wednesday/
LOCATION:AT&T Discovery District\, 308 S Akard St\, Dallas\, TX\, 75202
CATEGORIES:Fitness,Music
ATTACH;FMTTYPE=image/jpeg:https://theexchangehall.com/wp-content/uploads/2022/04/Wellness-Wednesday-1-D4dxez.tmp_.jpg
END:VEVENT
BEGIN:VEVENT
DTSTART;TZID=America/Chicago:20220517T110000
DTEND;TZID=America/Chicago:20220517T130000
DTSTAMP:20260421T141945
CREATED:20220427T190507Z
LAST-MODIFIED:20221130T214521Z
UID:238266-1652785200-1652792400@theexchangehall.com
SUMMARY:Therapy Dogs in The District
DESCRIPTION:In celebration of Mental Health Awareness Month\, we’re sharing the love from our four-legged friends! Stop by the District to meet therapy dogs from Pet Partners and learn about the importance of mental health. 
URL:https://theexchangehall.com/event/therapy-dogs-in-the-district/
LOCATION:AT&T Discovery District\, 308 S Akard St\, Dallas\, TX\, 75202
CATEGORIES:Education
ATTACH;FMTTYPE=image/jpeg:https://theexchangehall.com/wp-content/uploads/2022/04/Therapy_Dogs_ATT_BANNER-yWRVKB.tmp_.jpg
END:VEVENT
BEGIN:VEVENT
DTSTART;TZID=America/Chicago:20220517T070000
DTEND;TZID=America/Chicago:20220517T080000
DTSTAMP:20260421T141945
CREATED:20220422T190507Z
LAST-MODIFIED:20221130T214522Z
UID:238183-1652770800-1652774400@theexchangehall.com
SUMMARY:Military Appreciation Month Workout
DESCRIPTION:Join Cowboys Fit in a military-style workout for all active and retired service members in The District.  The exercises will have a tieback to signature workouts from all military branches. \nRSVP NOW
URL:https://theexchangehall.com/event/military-appreciation-month-workout/
LOCATION:AT&T Discovery District\, 308 S Akard St\, Dallas\, TX\, 75202
CATEGORIES:Fitness
ATTACH;FMTTYPE=image/jpeg:https://theexchangehall.com/wp-content/uploads/2022/04/ATTDD_MILITARYWORKOUT_BANNER-eUjL03.tmp_.jpg
END:VEVENT
BEGIN:VEVENT
DTSTART;TZID=America/Chicago:20220515T110000
DTEND;TZID=America/Chicago:20220515T150000
DTSTAMP:20260421T141945
CREATED:20220425T230506Z
LAST-MODIFIED:20221130T214523Z
UID:238233-1652612400-1652626800@theexchangehall.com
SUMMARY:AAPI Celebrations
DESCRIPTION:Join us as we celebrate Asian American and Pacific Islander Heritage Month. \nPerformances of Chinese Opera and dance\, Hula\, Thai dance and Philippine Bamboo Dance will highlight the significant cultural contributions from the AAPI community.
URL:https://theexchangehall.com/event/aapi-celebrations/
LOCATION:AT&T Discovery District\, 308 S Akard St\, Dallas\, TX\, 75202
CATEGORIES:Art,Kids & Family
ATTACH;FMTTYPE=image/jpeg:https://theexchangehall.com/wp-content/uploads/2022/04/AAPIBANNER-scaled-xpaiSf.tmp_.jpg
END:VEVENT
BEGIN:VEVENT
DTSTART;TZID=America/Chicago:20220511T180000
DTEND;TZID=America/Chicago:20220511T190000
DTSTAMP:20260421T141945
CREATED:20220422T030510Z
LAST-MODIFIED:20221130T214525Z
UID:238163-1652292000-1652295600@theexchangehall.com
SUMMARY:Wellness Wednesday
DESCRIPTION:Dance it out with Koko Ananti from AfrikoPOP Fitness this May! She combines modern west African dance with body sculpting\, all set to an Afropop beat. \nThen stick around and have a glass of wine with Koko at Hawthorn during Wine Down! 🍷 \n 
URL:https://theexchangehall.com/event/wellness-wednesday-2/
LOCATION:AT&T Discovery District\, 308 S Akard St\, Dallas\, TX\, 75202
CATEGORIES:Fitness,Music
ATTACH;FMTTYPE=image/jpeg:https://theexchangehall.com/wp-content/uploads/2022/04/Wellness-Wednesday-2-O4HbIb.tmp_.jpg
END:VEVENT
BEGIN:VEVENT
DTSTART;TZID=America/Chicago:20220508T110000
DTEND;TZID=America/Chicago:20220508T160000
DTSTAMP:20260421T141945
CREATED:20220423T150507Z
LAST-MODIFIED:20221130T214524Z
UID:238200-1652007600-1652025600@theexchangehall.com
SUMMARY:Mother's Day
DESCRIPTION:Moms everywhere\, thank you for all you do! We’re celebrating you this Mother’s Day with a beautiful floral wall\, a gif booth\, and a vendor market by Happily Ever Crafty! \n\n\nDon’t forget to order a delicious picnic basket from Rise + Thyme. Each basket will come with a Petal To The Metal flower bouquet \n\nOrder here: https://risenthyme.com/mothers-day-picnic-baskets-2022/
URL:https://theexchangehall.com/event/mothers-day-2/
LOCATION:AT&T Discovery District\, 308 S Akard St\, Dallas\, TX\, 75202
CATEGORIES:Kids & Family
ATTACH;FMTTYPE=image/jpeg:https://theexchangehall.com/wp-content/uploads/2022/04/mothersday-wall-GLaLLE.tmp_.jpg
END:VEVENT
BEGIN:VEVENT
DTSTART;TZID=America/Chicago:20220502T120000
DTEND;TZID=America/Chicago:20220502T150000
DTSTAMP:20260421T141945
CREATED:20220511T150515Z
LAST-MODIFIED:20221130T214526Z
UID:238453-1651492800-1651503600@theexchangehall.com
SUMMARY:Speakers In The Globe: Small Business Kickoff
DESCRIPTION:Didn’t make it to the Speakers in the Globe: AT&T Small Business Week Kickoff? Watch the whole session here! \nEnjoy a panel discussion about the Power of Adaptability. \nTopics included:\nAT&T Small Business’ Power of Adaptability \nPanelist speakers included:  \nJennifer Van Buskirk – AT&T President of Small Business & Mid-Markets\nGeorgina Miranda – CEO of She Ventures\nRoshan Jhunja – General Manager at Square®\nKara Brinley – Karadise Boutique\nBrian Casad – PARADIGM Gym
URL:https://theexchangehall.com/event/speakers-in-the-globe-small-business-kickoff/
LOCATION:AT&T Discovery District\, 308 S Akard St\, Dallas\, TX\, 75202
CATEGORIES:Education,Food & Drink
ATTACH;FMTTYPE=image/jpeg:https://theexchangehall.com/wp-content/uploads/2022/05/SPEAKERBANNER-1ZuYXO.tmp_.jpg
END:VEVENT
BEGIN:VEVENT
DTSTART;TZID=America/Chicago:20220502T120000
DTEND;TZID=America/Chicago:20220502T150000
DTSTAMP:20260421T141945
CREATED:20220427T190514Z
LAST-MODIFIED:20220511T110513Z
UID:238272-1651492800-1651503600@theexchangehall.com
SUMMARY:Speakers In The Globe
DESCRIPTION:Our speakers in the Globe series is back for Small Business Week!\n\n\n\nJoin us on May 2 at noon to hear about the Power of Adaptability featuring AT&T President of Small Business & Mid-Markets – Jennifer Van Buskirk\, CEO of She Ventures – Georgina Miranda\, General Manager at Square® – Roshan Jhunja and 2 local small business owners: Kara Brinley of Karadise Boutique and Brian Casad of PARADIGM Gym.\nPost-panel activities include giveaways\, snacks\, and networking. You won’t want to miss this!\n\n\n\nVirtual Attendance Link: https://video.ibm.com/channel/xTEXfpdqH2Y
URL:https://theexchangehall.com/event/speakers-in-the-globe/
LOCATION:AT&T Discovery District\, 308 S Akard St\, Dallas\, TX\, 75202
CATEGORIES:Education,Food & Drink
ATTACH;FMTTYPE=image/jpeg:https://theexchangehall.com/wp-content/uploads/2022/04/SMALLBUS_BANNER-ho4PMX.tmp_.jpg
END:VEVENT
BEGIN:VEVENT
DTSTART;TZID=America/Chicago:20220430T110000
DTEND;TZID=America/Chicago:20220430T160000
DTSTAMP:20260421T141945
CREATED:20220328T230507Z
LAST-MODIFIED:20221130T214528Z
UID:237781-1651316400-1651334400@theexchangehall.com
SUMMARY:District Kid's Art Fest
DESCRIPTION:Bring the whole family to an art festival just for kids! Explore and expand their imagination with art classes from Oil & Cotton\, live music from School of Rock and DJ K-Sprinkles\, face painting\, lawn games\, Dallas Public Library’s book bike cart\, artisan market and more! \nOil & Cotton:\nMake & Take Weaving Workshop\n11am – 2pm \nDallas Public Library Book Bike:\n11am – 2pm \nKid’s Local Artisan Market:\n11am – 4pm \nLawn Games:\n11am – 4pm \nFace Painter in the Grove:\n2pm – 4pm \nMusic Entertainment in The Globe:\nSchool of Rock  11am – 2pm\nDJ K-Sprinkles  2pm – 4pm \nMarket Vendors:\nOil & Cotton\nLolita Accessories\nBe Genuine\nCute Crochet by Chan\nJ M Birdie\nBrooke and Avery Creations\nCandleWorks by Stacia\nCamp Crafty\nYhoaki\nBuddies and Babes\nNails with Betsy\nBlasé Boutique\nCottonFire Boutique\nBlue Line Caricature\nOne Sweet Tooth\nThe Pixel Bros\nCraftystore Dallas
URL:https://theexchangehall.com/event/district-kids-art-fest/
LOCATION:AT&T Discovery District\, 308 S Akard St\, Dallas\, TX\, 75202
CATEGORIES:Art,Kids & Family,Music
ATTACH;FMTTYPE=image/jpeg:https://theexchangehall.com/wp-content/uploads/2022/03/OilCotton-scaled-VVIaFE.tmp_.jpg
END:VEVENT
BEGIN:VEVENT
DTSTART;TZID=America/Chicago:20220423T150000
DTEND;TZID=America/Chicago:20220423T190000
DTSTAMP:20260421T141945
CREATED:20220420T030507Z
LAST-MODIFIED:20221130T214526Z
UID:238130-1650726000-1650740400@theexchangehall.com
SUMMARY:Dallas Mavericks Official Watch Party
DESCRIPTION:Calling all MFFL’s! \nJoin us in The District as we host the Official Watch Party in Dallas! Cheer on the Dallas Mavericks as they take on the Utah Jazz. Watch party begins at 3pm featuring live performances\, photo ops\, Michelob ULTRA beer bucket specials\, giveaways\, and much more.  Don’t forget to wear your Mavs blue and get ready to be rowdy\, proud\, & loud. \nGo Mavs! #dALLasIN
URL:https://theexchangehall.com/event/dallas-mavericks-official-watch-party/
LOCATION:AT&T Discovery District\, 308 S Akard St\, Dallas\, TX\, 75202
CATEGORIES:Food & Drink,Sports
ATTACH;FMTTYPE=image/jpeg:https://theexchangehall.com/wp-content/uploads/2022/04/Website-Banner-4859x2226_ATT-Watch-Party-qSMXu8.tmp_.jpg
END:VEVENT
BEGIN:VEVENT
DTSTART;TZID=America/Chicago:20220420T180000
DTEND;TZID=America/Chicago:20220420T184500
DTSTAMP:20260421T141945
CREATED:20220329T230508Z
LAST-MODIFIED:20221130T214530Z
UID:237807-1650477600-1650480300@theexchangehall.com
SUMMARY:Wellness Wednesday: Cowboys Fit
DESCRIPTION:The District is your personal gym during Wellness Wednesdays this month! \nImprove your speed\, agility\, balance\, core strength\, and flexibility with Cowboys Fit. Enjoy a complimentary class instructed by elite trainers Blair Lane and Cordell Waddey. \n  \nCome dressed in your workout clothes and sneakers. \n 
URL:https://theexchangehall.com/event/wellness-wednesday-cowboys-fit-4/
LOCATION:AT&T Discovery District\, 308 S Akard St\, Dallas\, TX\, 75202
CATEGORIES:Fitness
ATTACH;FMTTYPE=image/jpeg:https://theexchangehall.com/wp-content/uploads/2022/03/ATTDD_WELLNESSWEDNESDAY_COWBOYFIT_032322_PHOTO-27-pe0VX1.tmp_.jpg
END:VEVENT
BEGIN:VEVENT
DTSTART;TZID=America/Chicago:20220417T100000
DTEND;TZID=America/Chicago:20220417T150000
DTSTAMP:20260421T141945
CREATED:20220413T190506Z
LAST-MODIFIED:20221130T200508Z
UID:238015-1650189600-1650207600@theexchangehall.com
SUMMARY:Easter Brunch at the 2nd Floor
DESCRIPTION:Hop on up to the Second Floor for a special Easter brunch buffet! Starting at 10am\, we’ll have pastries\, an omelette station\, smoked salmon display\, prime rib\, and more. $50/adult. $25/children \nRSVP Here!
URL:https://theexchangehall.com/event/easter-brunch-at-the-2nd-floor/
LOCATION:The Exchange Hall 2nd Floor\, 211 S Akard St\, Dallas\, TX\, 75202
CATEGORIES:Food & Drink,Kids & Family
ATTACH;FMTTYPE=image/jpeg:https://theexchangehall.com/wp-content/uploads/2022/04/Easter_Featrured_Web_photo-sA3ARO.tmp_.jpg
END:VEVENT
BEGIN:VEVENT
DTSTART;TZID=America/Chicago:20220406T180000
DTEND;TZID=America/Chicago:20220406T184500
DTSTAMP:20260421T141945
CREATED:20220329T230507Z
LAST-MODIFIED:20221130T214529Z
UID:237806-1649268000-1649270700@theexchangehall.com
SUMMARY:Wellness Wednesday: Cowboys Fit
DESCRIPTION:The District is your personal gym during Wellness Wednesdays this month! \nImprove your speed\, agility\, balance\, core strength\, and flexibility with Cowboys Fit. Enjoy a complimentary class instructed by elite trainers Blair Lane and Cordell Waddey. \n  \nCome dressed in your workout clothes and sneakers. \n  \n 
URL:https://theexchangehall.com/event/wellness-wednesday-cowboys-fit-3/
LOCATION:AT&T Discovery District\, 308 S Akard St\, Dallas\, TX\, 75202
CATEGORIES:Fitness
ATTACH;FMTTYPE=image/jpeg:https://theexchangehall.com/wp-content/uploads/2022/03/featureWW-2R1tVM.tmp_.jpg
END:VEVENT
BEGIN:VEVENT
DTSTART;TZID=America/Chicago:20220401T100000
DTEND;TZID=America/Chicago:20220424T180000
DTSTAMP:20260421T141945
CREATED:20220406T230532Z
LAST-MODIFIED:20221130T214527Z
UID:237924-1648807200-1650823200@theexchangehall.com
SUMMARY:Arts Month Showcase
DESCRIPTION:For Dallas Art’s Month\, we’re hosting a collection celebrating post-war abstract art from Sol LeWitt and his contemporaries. Stop by to see how the 1960’s shaped a new wave of American abstraction now in our Showcase!
URL:https://theexchangehall.com/event/arts-month-showcase/
LOCATION:At&t Showcase\, 208 S Akard Street Lobby\, Dallas\, TX\, 75202
CATEGORIES:Art,Education
ATTACH;FMTTYPE=image/jpeg:https://theexchangehall.com/wp-content/uploads/2022/04/showcase-cover-scaled-woAlUR.tmp_.jpg
END:VEVENT
BEGIN:VEVENT
DTSTART;TZID=America/Chicago:20220324T210000
DTEND;TZID=America/Chicago:20220324T230000
DTSTAMP:20260421T141946
CREATED:20220225T200507Z
LAST-MODIFIED:20221130T214531Z
UID:237374-1648155600-1648162800@theexchangehall.com
SUMMARY:USA vs Mexico
DESCRIPTION:Whether it’s soccer or football to you\, this is a game you won’t want to miss! Join us at 9pm on 3/24 as we stream a huge game on an even more huge Media Wall!
URL:https://theexchangehall.com/event/usa-vs-mexico/
LOCATION:AT&T Discovery District\, 308 S Akard St\, Dallas\, TX\, 75202
CATEGORIES:Kids & Family,Sports
ATTACH;FMTTYPE=image/jpeg:https://theexchangehall.com/wp-content/uploads/2022/02/ATT-template_game-scaled-SMbgcs.tmp_.jpg
END:VEVENT
BEGIN:VEVENT
DTSTART;TZID=America/Chicago:20220319T110000
DTEND;TZID=America/Chicago:20220319T180000
DTSTAMP:20260421T141946
CREATED:20220225T200506Z
LAST-MODIFIED:20221130T214530Z
UID:237373-1647687600-1647712800@theexchangehall.com
SUMMARY:Women's District Market
DESCRIPTION:Head over to the Discovery District for a District Market in celebration of Women’s History Month on Saturday\, 3/19 from 11am – 6pm! \nThe festivities include a market of all local women vendors and live musical performances by Small Town\, Maya Piata\, and DJ Soul Sistas throughout the day. \nVENDORS\nJanak Art\nZafino Jewelers\nRita Vicari Gallery\nHenry’s Daughter Home Decor\nMansie Artistic\nMio Candles\nThe Styled Boutique\nJust Serenity Home Co.\nConcrete Dream\nPacha by Hand\nMikki Mallow\nMekumi Bath\nShop Blue District\nBridget Marie Style\nMelt Dallas\nEccentrix Gallery\nKuma’s Candles\nBe So Selfish \n 
URL:https://theexchangehall.com/event/womens-district-market/
LOCATION:AT&T Discovery District\, 308 S Akard St\, Dallas\, TX\, 75202
CATEGORIES:Art,Kids & Family,Music
ATTACH;FMTTYPE=image/jpeg:https://theexchangehall.com/wp-content/uploads/2022/02/ATT-template_womans-scaled-HNpKFE.tmp_.jpg
END:VEVENT
BEGIN:VEVENT
DTSTART;TZID=America/Chicago:20220313T170000
DTEND;TZID=America/Chicago:20220404T220000
DTSTAMP:20260421T141946
CREATED:20220225T200508Z
LAST-MODIFIED:20221130T214532Z
UID:237376-1647190800-1649109600@theexchangehall.com
SUMMARY:NCAA MARCH MADNESS
DESCRIPTION:Go big this March when you catch all the biggest NCAA games on our Media Wall. Watch the Championship at the District. \n4/4 Men’s Championship at 8:20 PM \nKansas vs. North Carolina
URL:https://theexchangehall.com/event/ncaa-march-madness/
LOCATION:AT&T Discovery District\, 308 S Akard St\, Dallas\, TX\, 75202
CATEGORIES:Kids & Family,Sports
ATTACH;FMTTYPE=image/jpeg:https://theexchangehall.com/wp-content/uploads/2022/02/ATT-template-2-scaled-u4zdZB.tmp_.jpg
END:VEVENT
BEGIN:VEVENT
DTSTART;TZID=America/Chicago:20220312T100000
DTEND;TZID=America/Chicago:20220312T220000
DTSTAMP:20260421T141946
CREATED:20220121T000506Z
LAST-MODIFIED:20221130T214537Z
UID:236794-1647079200-1647122400@theexchangehall.com
SUMMARY:ST. PATRICK'S DAY BLOCK PARTY FEAT. MATT AND KIM
DESCRIPTION:Celebrate St. Patrick’s Day at the AT&T Discovery District! Enjoy a FREE outdoor block party in our Plaza featuring musical performances by Matt and Kim\, Surf Mesa\, The Rich Girls\, and DJ Blake Ward. Other festivities include a live broadcast of the Lower Greenville parade on the Media Wall\, performances by Irish Folk dancers\, a kid’s zone\, and more. \nRSVP is recommended\, but not required. \n\n\n\n\nBlock Party kicks off at 10:00AM \nKids’ Zone runs from 10:00AM to 1:00PM \nLive Broadcast of the Greenville Avenue Parade on the Media Wall at 11:00AM. \nLive Performances start at 2:00PM. \nFree Parking is available in the 1212 Jackson St. & 1500 Jackson St. parking garages with validation from Double Tap\, Jaxon\, or Experience Store\, with purchase.
URL:https://theexchangehall.com/event/st-patricks-day-block-party-feat-matt-and-kim/
LOCATION:AT&T Discovery District\, 308 S Akard St\, Dallas\, TX\, 75202
CATEGORIES:Food & Drink,Music,Nightlife
ATTACH;FMTTYPE=image/jpeg:https://theexchangehall.com/wp-content/uploads/2022/02/ATTDD_StPatty-2022-cover-scaled-u8lorb.tmp_.jpg
END:VEVENT
BEGIN:VEVENT
DTSTART;TZID=America/Chicago:20220305T100000
DTEND;TZID=America/Chicago:20220305T180000
DTSTAMP:20260421T141946
CREATED:20220225T200511Z
LAST-MODIFIED:20221130T214533Z
UID:237379-1646474400-1646503200@theexchangehall.com
SUMMARY:Black Business Owners District Market
DESCRIPTION:Head over to the Discovery District for a Black Business Owners District Market on Saturday\, 3/5 from 10am – 6pm! \nThe festivities include a District Market of all local black vendors and live musical performances by Cure for Paranoia\, Clover the Violinist\, and Ursa Minor throughout the day. \nOur vendors include: \nJust Serenity Home Co.\nMekumi Bath\nConcrete Dreams\nRambo\nOlphactory Candles\nBe So Selfish\nHenry’s Daughter Home Decor\nAva Michelle Jewelry\nJackson The Brand
URL:https://theexchangehall.com/event/black-business-owners-district-market/
LOCATION:AT&T Discovery District\, 308 S Akard St\, Dallas\, TX\, 75202
CATEGORIES:Art,Kids & Family,Music
ATTACH;FMTTYPE=image/jpeg:https://theexchangehall.com/wp-content/uploads/2022/02/BHM-2-scaled-O7ZVgf.tmp_.jpg
END:VEVENT
BEGIN:VEVENT
DTSTART;TZID=America/Chicago:20220220T150000
DTEND;TZID=America/Chicago:20220220T220000
DTSTAMP:20260421T141946
CREATED:20220126T160507Z
LAST-MODIFIED:20221130T214536Z
UID:236871-1645369200-1645394400@theexchangehall.com
SUMMARY:NBA All-Star Official Watch Party
DESCRIPTION:Join us on Sunday\, Feb. 20\, at 3pm for the Official Watch Party for the NBA All-Star game in the District! Enjoy live music\, basketball contest\, giveaways (100 blankets\, mini basketballs\, rally towels\, koozies)\, and more. While supplies last. \nFood and beverage will be available \nAT&T Pre-Game Concert: 3pm\nPregame Show: 5pm\nGame Tipoff: 7pm CST
URL:https://theexchangehall.com/event/nba-all-star-official-watch-party/
LOCATION:AT&T Discovery District\, 308 S Akard St\, Dallas\, TX\, 75202
CATEGORIES:Food & Drink,Music,Sports
ATTACH;FMTTYPE=image/jpeg:https://theexchangehall.com/wp-content/uploads/2022/02/NBA-All-Stars-1-scaled-QyRYsR.tmp_.jpg
END:VEVENT
BEGIN:VEVENT
DTSTART;TZID=America/Chicago:20220217T130000
DTEND;TZID=America/Chicago:20220217T180000
DTSTAMP:20260421T141946
CREATED:20220202T200506Z
LAST-MODIFIED:20221130T214535Z
UID:236963-1645102800-1645120800@theexchangehall.com
SUMMARY:The Batman Pop-up
DESCRIPTION:Swoop on down to the District to see the Batmobile and original costumes from the new upcoming theatrical release\, THE BATMAN\, this Thursday\, Feb. 17 from 1-6pm. Don’t miss your chance to score limited swag from the film! While supplies last.
URL:https://theexchangehall.com/event/the-batman-pop-up/
LOCATION:AT&T Discovery District\, 308 S Akard St\, Dallas\, TX\, 75202
CATEGORIES:Kids & Family,TV & Film
ATTACH;FMTTYPE=image/jpeg:https://theexchangehall.com/wp-content/uploads/2022/02/batman-scaled-UXWU8H.tmp_.jpg
END:VEVENT
BEGIN:VEVENT
DTSTART;TZID=America/Chicago:20220213T163000
DTEND;TZID=America/Chicago:20220213T210000
DTSTAMP:20260421T141946
CREATED:20220126T200506Z
LAST-MODIFIED:20221130T214535Z
UID:236875-1644769800-1644786000@theexchangehall.com
SUMMARY:The Big Game
DESCRIPTION:Join us in The District Sunday\, Feb. 13\, for The Big Game streaming on the media wall! Kickoff is at 5:30pm. Enjoy lawn games\, blanket giveaways\, face painters\, and more. \nDJ Litebrite will be spinning out of the Globe starting at 4:30pm.
URL:https://theexchangehall.com/event/the-big-game/
LOCATION:AT&T Discovery District\, 308 S Akard St\, Dallas\, TX\, 75202
CATEGORIES:Kids & Family,Music,Sports
ATTACH;FMTTYPE=image/jpeg:https://theexchangehall.com/wp-content/uploads/2022/02/SB-scaled-tPagQ0.tmp_.jpg
END:VEVENT
BEGIN:VEVENT
DTSTART;TZID=America/Chicago:20220207T100000
DTEND;TZID=America/Chicago:20220228T220000
DTSTAMP:20260421T141946
CREATED:20220204T000506Z
LAST-MODIFIED:20221130T214532Z
UID:236991-1644228000-1646085600@theexchangehall.com
SUMMARY:Valentine's Day Flower Wall
DESCRIPTION:Our flower wall is back in front of The Exchange! Get a photo with your loved one in front of the wall and use the hashtag #CantCancelLove.
URL:https://theexchangehall.com/event/valentines-day-flower-wall/
LOCATION:AT&T Discovery District\, 308 S Akard St\, Dallas\, TX\, 75202
CATEGORIES:Kids & Family
ATTACH;FMTTYPE=image/jpeg:https://theexchangehall.com/wp-content/uploads/2022/02/ATT-template-1-scaled-Ng1Fcj.tmp_.jpg
END:VEVENT
BEGIN:VEVENT
DTSTART;TZID=America/Chicago:20220205T120000
DTEND;TZID=America/Chicago:20220205T170000
DTSTAMP:20260421T141946
CREATED:20220120T160508Z
LAST-MODIFIED:20221130T214538Z
UID:236786-1644062400-1644080400@theexchangehall.com
SUMMARY:LUNAR NEW YEAR CELEBRATION
DESCRIPTION:Join us for our Lunar New Year celebration on February 5 from 12pm-5pm!\n\nFestivities include:\n Monkey King Noodle Specialties\n Inspired Crafted Cocktails\n Performance by the Rising Phoenix Lion Dance Association\n& MORE!
URL:https://theexchangehall.com/event/lunar-new-year-celebration/
LOCATION:AT&T Discovery District\, 308 S Akard St\, Dallas\, TX\, 75202
CATEGORIES:Art,Food & Drink,Kids & Family,Music
ATTACH;FMTTYPE=image/jpeg:https://theexchangehall.com/wp-content/uploads/2022/02/IMG_6946-1-Zlu08B.tmp_.jpg
END:VEVENT
BEGIN:VEVENT
DTSTART;TZID=America/Chicago:20220201T090000
DTEND;TZID=America/Chicago:20220328T210000
DTSTAMP:20260421T141946
CREATED:20220328T190546Z
LAST-MODIFIED:20221130T214534Z
UID:237778-1643706000-1648501200@theexchangehall.com
SUMMARY:Dream In Black Showcase
DESCRIPTION:AT&T Dream In Black was proud to present 2022 Black Future Makers\, a celebration of the dreams and the future made possible by more than 400 years of Black history\, culture and contributions. Imagery for the installation was produced by Georgie Nakima.
URL:https://theexchangehall.com/event/dream-in-black-showcase-2/
LOCATION:At&t Showcase\, 208 S Akard Street Lobby\, Dallas\, TX\, 75202
CATEGORIES:Art,Education
ATTACH;FMTTYPE=image/jpeg:https://theexchangehall.com/wp-content/uploads/2022/02/BHM-scaled-cAojCL.tmp_.jpg
END:VEVENT
BEGIN:VEVENT
DTSTART;TZID=America/Chicago:20220130T140500
DTEND;TZID=America/Chicago:20220130T210000
DTSTAMP:20260421T141946
CREATED:20220121T200507Z
LAST-MODIFIED:20221130T214537Z
UID:236807-1643551500-1643576400@theexchangehall.com
SUMMARY:Conference Showdowns
DESCRIPTION:Join us in the AT&T Discovery District to watch the Conference Showdowns on our 104’ Media Wall. \nThe first game between the Chiefs vs. Bengals kicks off at 2pm followed by Rams vs. 49ers at 5:30pm. Other activities include a live DJ\, lawn games\, giveaways\, and more. \nSee y’all Sunday\, 1/30!
URL:https://theexchangehall.com/event/conference-showdowns/
LOCATION:AT&T Discovery District\, 308 S Akard St\, Dallas\, TX\, 75202
CATEGORIES:Kids & Family,Sports
ATTACH;FMTTYPE=image/jpeg:https://theexchangehall.com/wp-content/uploads/2022/02/ATTDD-Conference-cover-photos-2-scaled-ZMEtMn.tmp_.jpg
END:VEVENT
BEGIN:VEVENT
DTSTART;TZID=America/Chicago:20220116T153000
DTEND;TZID=America/Chicago:20220116T180000
DTSTAMP:20260421T141946
CREATED:20220112T160507Z
LAST-MODIFIED:20221130T214539Z
UID:236679-1642347000-1642356000@theexchangehall.com
SUMMARY:Cheer On The Cowboys
DESCRIPTION:Cowboys Nation\, it’s playoff time! Wear your favorite white apparel for a WHITEOUT and join us in the AT&T Discovery District to cheer on the Cowboys as they take on the 49ers. \nKickoff takes place at 3:30pm on the 104’ Media Wall. Other activities include a live DJ\, lawn games\, giveaways and more. \nSee y’all Sunday\, 1/16!
URL:https://theexchangehall.com/event/cheer-on-the-cowboys-14/
LOCATION:AT&T Discovery District\, 308 S Akard St\, Dallas\, TX\, 75202
CATEGORIES:Kids & Family,Sports
ATTACH;FMTTYPE=image/jpeg:https://theexchangehall.com/wp-content/uploads/2022/02/ATTDD_COWBOYS-GAME_091921-36-scaled-pwWN2k.tmp_.jpg
END:VEVENT
BEGIN:VEVENT
DTSTART;TZID=America/Chicago:20220110T180000
DTEND;TZID=America/Chicago:20220110T220000
DTSTAMP:20260421T141946
CREATED:20220104T200506Z
LAST-MODIFIED:20221130T214540Z
UID:236579-1641837600-1641852000@theexchangehall.com
SUMMARY:CFP National Championship
DESCRIPTION:Come watch the Alabama Crimson Tide take on the Georgia Bulldogs in the CFP National Championship game\, Monday\, January 10.  \nPre-game festivities start at 6pm followed by kick-off at 7pm. The game will be broadcast on the 104′ Media Wall\, at The Exchange\, and at Jaxon.
URL:https://theexchangehall.com/event/cfp-national-championship/
LOCATION:AT&T Discovery District\, 308 S Akard St\, Dallas\, TX\, 75202
CATEGORIES:Sports
ATTACH;FMTTYPE=image/jpeg:https://theexchangehall.com/wp-content/uploads/2022/02/ATTDD-national-championship-cover-1-scaled-q5FSHv.tmp_.jpg
END:VEVENT
BEGIN:VEVENT
DTSTART;TZID=America/Chicago:20220108T190000
DTEND;TZID=America/Chicago:20220108T220000
DTSTAMP:20260421T141946
CREATED:20220104T000507Z
LAST-MODIFIED:20221130T214541Z
UID:236567-1641668400-1641679200@theexchangehall.com
SUMMARY:Cheer On The Cowboys
DESCRIPTION:Join us on the lawn Saturday\, 1/8\, while the Cowboys game streams on the 104′ Media Wall\, plus over 40 other TVs throughout the District! \nDon’t forget to stop by Jaxon for a $4 Miller and Coors special or any of the 8 bars in the District to grab a drink to enjoy while watching the game.
URL:https://theexchangehall.com/event/cheer-on-the-cowboys-13/
LOCATION:AT&T Discovery District\, 308 S Akard St\, Dallas\, TX\, 75202
CATEGORIES:Kids & Family,Sports
ATTACH;FMTTYPE=image/jpeg:https://theexchangehall.com/wp-content/uploads/2022/02/ATTDD_COWBOYS-GAME_091921-36-scaled-pwWN2k.tmp_.jpg
END:VEVENT
BEGIN:VEVENT
DTSTART;TZID=America/Chicago:20220102T152500
DTEND;TZID=America/Chicago:20220102T190000
DTSTAMP:20260421T141946
CREATED:20211229T165909Z
LAST-MODIFIED:20221130T214542Z
UID:236437-1641137100-1641150000@theexchangehall.com
SUMMARY:Cheer On The Cowboys
DESCRIPTION:Join us on the lawn Sunday\, 1/2\, while the Cowboys game streams on the 104′ Media Wall\, plus over 40 other TVs throughout the District! \nDon’t forget to stop by Jaxon for a $4 Miller and Coors special or any of the 8 bars in the District to grab a drink to enjoy while watching the game.
URL:https://theexchangehall.com/event/cheer-on-the-cowboys-12/
LOCATION:AT&T Discovery District\, 308 S Akard St\, Dallas\, TX\, 75202
CATEGORIES:Kids & Family,Sports
ATTACH;FMTTYPE=image/jpeg:https://theexchangehall.com/wp-content/uploads/2022/02/ATTDD_COWBOYS-GAME_091921-36-scaled-pwWN2k.tmp_.jpg
END:VEVENT
END:VCALENDAR