BEGIN:VCALENDAR
VERSION:2.0
PRODID:-//The Exchange Food Hall - ECPv6.15.17//NONSGML v1.0//EN
CALSCALE:GREGORIAN
METHOD:PUBLISH
X-ORIGINAL-URL:https://theexchangehall.com
X-WR-CALDESC:Events for The Exchange Food Hall
REFRESH-INTERVAL;VALUE=DURATION:PT1H
X-Robots-Tag:noindex
X-PUBLISHED-TTL:PT1H
BEGIN:VTIMEZONE
TZID:America/Chicago
BEGIN:DAYLIGHT
TZOFFSETFROM:-0600
TZOFFSETTO:-0500
TZNAME:CDT
DTSTART:20200308T080000
END:DAYLIGHT
BEGIN:STANDARD
TZOFFSETFROM:-0500
TZOFFSETTO:-0600
TZNAME:CST
DTSTART:20201101T070000
END:STANDARD
BEGIN:DAYLIGHT
TZOFFSETFROM:-0600
TZOFFSETTO:-0500
TZNAME:CDT
DTSTART:20210314T080000
END:DAYLIGHT
BEGIN:STANDARD
TZOFFSETFROM:-0500
TZOFFSETTO:-0600
TZNAME:CST
DTSTART:20211107T070000
END:STANDARD
BEGIN:DAYLIGHT
TZOFFSETFROM:-0600
TZOFFSETTO:-0500
TZNAME:CDT
DTSTART:20220313T080000
END:DAYLIGHT
BEGIN:STANDARD
TZOFFSETFROM:-0500
TZOFFSETTO:-0600
TZNAME:CST
DTSTART:20221106T070000
END:STANDARD
END:VTIMEZONE
BEGIN:VEVENT
DTSTART;TZID=America/Chicago:20210515T110000
DTEND;TZID=America/Chicago:20211016T210000
DTSTAMP:20260424T135515
CREATED:20210902T212634Z
LAST-MODIFIED:20221130T214629Z
UID:234565-1621076400-1634418000@theexchangehall.com
SUMMARY:Experience HBO Max Orbit
DESCRIPTION:HBO Max\, AT&T and experience design firm\, HUSH\, worked together to create an immersive fan experience using physical and voice recognition which debuted in a digital version at SXSW. The experience took on a physical form\, using 5G\, in AT&T’s Experience Studio. \nRelive the experience here.
URL:https://theexchangehall.com/event/experience-hbo-max-orbit/
LOCATION:AT&T Experience Store\, 308 S Akard St Ste. 100\, Dallas\, TX\, 75202\, United States
CATEGORIES:Kids & Family,Technology,TV & Film
ATTACH;FMTTYPE=image/jpeg:https://theexchangehall.com/wp-content/uploads/2022/06/HBO-cover-uKpLeb.tmp_.jpg
END:VEVENT
BEGIN:VEVENT
DTSTART;TZID=America/Chicago:20210611T000000
DTEND;TZID=America/Chicago:20211031T000000
DTSTAMP:20260424T135515
CREATED:20220118T160550Z
LAST-MODIFIED:20221130T214629Z
UID:236754-1623369600-1635638400@theexchangehall.com
SUMMARY:Experience Friends
DESCRIPTION:This Experience is no longer available.\nRelive the experience here. \n 
URL:https://theexchangehall.com/event/experience-friends-2/
LOCATION:AT&T Experience Store\, 308 S Akard St Ste. 100\, Dallas\, TX\, 75202\, United States
CATEGORIES:Kids & Family,TV & Film
ATTACH;FMTTYPE=image/jpeg:https://theexchangehall.com/wp-content/uploads/2022/06/friends-d9yYMl.tmp_.jpg
END:VEVENT
BEGIN:VEVENT
DTSTART;TZID=America/Chicago:20210807T100000
DTEND;TZID=America/Chicago:20210807T150000
DTSTAMP:20260424T135516
CREATED:20210902T212630Z
LAST-MODIFIED:20221130T214623Z
UID:234556-1628330400-1628348400@theexchangehall.com
SUMMARY:Back 2 School Bash
DESCRIPTION:Celebrate the end of summer with our #Back2SchoolBash next Saturday\, August 7th! \n\nFrom 10am-3pm\, stop by for live music by School of Rock DFW\, food\, games\, giveaways\, a face painter\, a balloon artist\, and more fun activities. Proceeds from our #DunkforDonations dunk tank featuring the Dallas Mavs and our family-friendly “Lemon-Aid” stand by Double Tap Bar will all benefit For Oak Cliff.\n\nOur #Back2SchoolBash is the perfect way to spend your weekend. We hope to see you there!\n 
URL:https://theexchangehall.com/event/back-2-school-bash/
LOCATION:AT&T Discovery District\, 308 S Akard St\, Dallas\, TX\, 75202
CATEGORIES:Art,Education,Food & Drink,Kids & Family,Music
ATTACH;FMTTYPE=image/jpeg:https://theexchangehall.com/wp-content/uploads/2022/06/ATT_BACK2SCHOOL-03-scaled-9lWNQq.tmp_.jpg
END:VEVENT
BEGIN:VEVENT
DTSTART;TZID=America/Chicago:20210814T170000
DTEND;TZID=America/Chicago:20210814T190000
DTSTAMP:20260424T135516
CREATED:20210902T212630Z
LAST-MODIFIED:20221130T214622Z
UID:234555-1628960400-1628967600@theexchangehall.com
SUMMARY:CONCERTS IN THE GLOBE: SARAH JAFFE
DESCRIPTION:Join us for the first in a new live music series at The AT&T Discovery District\, #ConcertsInTheGlobe\, on Saturday\, August 14 from 5-7pm. Bring a friend\, grab some food & drinks from our partners in The District and enjoy the show. \nThe event is free and there is parking available at 1212 Jackson St garage\, free with validation with purchase at any Discovery District vendor.
URL:https://theexchangehall.com/event/concerts-in-the-globe-sarah-jaffe/
LOCATION:AT&T Discovery District\, 308 S Akard St\, Dallas\, TX\, 75202
CATEGORIES:Food & Drink,Music
ATTACH;FMTTYPE=image/jpeg:https://theexchangehall.com/wp-content/uploads/2022/06/jaffe-Abi5qh.tmp_.jpg
END:VEVENT
BEGIN:VEVENT
DTSTART;TZID=America/Chicago:20210815T173000
DTEND;TZID=America/Chicago:20210815T190000
DTSTAMP:20260424T135516
CREATED:20210902T212630Z
LAST-MODIFIED:20221130T214622Z
UID:234554-1629048600-1629054000@theexchangehall.com
SUMMARY:Concerts In The Globe: Mason Lively
DESCRIPTION:Join us for the new live music series at The AT&T Discovery District\, #ConcertsInTheGlobe\, on Sunday\, August 15 from 5:30-7pm with Mason Lively. Bring a friend\, grab some food & drinks from our partners in The District and enjoy the show.\n\nThe event is free and there is parking available at 1212 Jackson St garage\, free with validation with purchase at any Discovery District vendor.
URL:https://theexchangehall.com/event/concerts-in-the-globe-mason-lively/
LOCATION:AT&T Discovery District\, 308 S Akard St\, Dallas\, TX\, 75202
CATEGORIES:Food & Drink,Music
ATTACH;FMTTYPE=image/jpeg:https://theexchangehall.com/wp-content/uploads/2022/06/mason-lively-MwxGNC.tmp_.jpg
END:VEVENT
BEGIN:VEVENT
DTSTART;TZID=America/Chicago:20210824T190000
DTEND;TZID=America/Chicago:20210824T200000
DTSTAMP:20260424T135516
CREATED:20210902T212631Z
LAST-MODIFIED:20221130T214624Z
UID:234557-1629831600-1629835200@theexchangehall.com
SUMMARY:Salsa In The District with Amanda Cristina
DESCRIPTION:Slide into the AT&T Discovery District for a free salsa class in the plaza on Tuesdays from August 10-31 from 7pm-8pm! Instructed by Amanda Cristina\, this class will get your body moving and liven up your Tuesday night!Anyone can stop by\, as an individual or with a partner. No experience\, partner\, or dance attire is required. Students should wear comfortable clothing and comfortable shoes. ??\nAfterward\, use your dance moves to spin on over to Double Tap in The Exchange Hall for their mojito special ? (classic\, strawberry\, pineapple cucumber or dragonfruit) or Hawthorn for their spicy martini special ?.
URL:https://theexchangehall.com/event/salsa-in-the-district-with-amanda-cristina/
LOCATION:AT&T Discovery District\, 308 S Akard St\, Dallas\, TX\, 75202
CATEGORIES:Art,Education,Fitness,Music
ATTACH;FMTTYPE=image/jpeg:https://theexchangehall.com/wp-content/uploads/2022/06/salsa-2-2-R0NEBu.tmp_.jpg
END:VEVENT
BEGIN:VEVENT
DTSTART;TZID=America/Chicago:20210826T180000
DTEND;TZID=America/Chicago:20210826T220000
DTSTAMP:20260424T135516
CREATED:20210902T212629Z
LAST-MODIFIED:20221130T214621Z
UID:234553-1630000800-1630015200@theexchangehall.com
SUMMARY:DJs in the Globe: Spinderella\, Christy Ray & Ursa Minor
DESCRIPTION:The next installment of AT&T Discovery District’s DJs in the Globe is here – August 26 from 6-10pm you can enjoy music in the District plaza with the DJs performing out of the Globe. \nDJ Spinderella: 8:30-10pm\nDJ Christy Ray: 7:15-8:30pm\nDJ Ursa Minor: 6-7:15pm \nBe sure to get here early to enjoy Women’s Equality Day with our first #DistrictMarket\, featuring goods made from and sold by women crafters\, and of course to grab a bite and a drink from our wonderful partners. Vendors for this events market are…\nBumble & Brim Hat Co. \nFun Custom Cowboy Hats \nDolly’s D-Lite \nWomen’s apparel including dresses\, handbags\, jewelry\, and other fun accessories. \nLeis Swim\nLuxury designer swimwear brand \nBossy Glamworks\nWell-rounded selection of stylish clothing that caters to smart\, mature\, classy\, and confident women ranging from size small to 3X. \nKuma Candles \nUsing only Soy Wax\, premium fragrance oils\, and occasionally candle dye to create candles. \nMy Tran Jewelry\nVietnamese immigrant making jewelry with a message. Woman-owned + handmade. Each item is unique. \nThe event is free to attend and there is parking available at 1212 Jackson St garage\, free with validation with purchase at any Discovery District vendor. Get down and boogie or kick it on the lawn and listen with a cocktail from Double Tap. Lawn blankets and lawn chairs are welcome but no outside food or beverages from beyond the District. \nJoin us the last Thursday of every month from 6-10 pm in The Globe for a new monthly music series in the AT&T Discovery District
URL:https://theexchangehall.com/event/djs-in-the-globe-spinderella-christy-ray-ursa-minor/
LOCATION:AT&T Discovery District\, 308 S Akard St\, Dallas\, TX\, 75202
CATEGORIES:Music,Nightlife
ATTACH;FMTTYPE=image/jpeg:https://theexchangehall.com/wp-content/uploads/2022/06/ATT-Cover-4-4fzr0D.tmp_.jpg
END:VEVENT
BEGIN:VEVENT
DTSTART;TZID=America/Chicago:20210829T180000
DTEND;TZID=America/Chicago:20210829T200000
DTSTAMP:20260424T135516
CREATED:20210930T220352Z
LAST-MODIFIED:20221130T200509Z
UID:235043-1630260000-1630267200@theexchangehall.com
SUMMARY:Sushi Class & Sake Tasting
DESCRIPTION:Join the masters at Ichi Ni San for a Sushi class and sake tasting on August 29th from 6-8pm. \nTickets are available\nhere
URL:https://theexchangehall.com/event/sushi-class-sake-tasting/
LOCATION:The Exchange Hall 2nd Floor\, 211 S Akard St\, Dallas\, TX\, 75202
CATEGORIES:Education,Food & Drink
ATTACH;FMTTYPE=image/jpeg:https://theexchangehall.com/wp-content/uploads/2022/06/sushi-b0PhW0.tmp_.jpg
END:VEVENT
END:VCALENDAR