BEGIN:VCALENDAR
VERSION:2.0
PRODID:-//The Exchange Food Hall - ECPv6.15.17//NONSGML v1.0//EN
CALSCALE:GREGORIAN
METHOD:PUBLISH
X-WR-CALNAME:The Exchange Food Hall
X-ORIGINAL-URL:https://theexchangehall.com
X-WR-CALDESC:Events for The Exchange Food Hall
REFRESH-INTERVAL;VALUE=DURATION:PT1H
X-Robots-Tag:noindex
X-PUBLISHED-TTL:PT1H
BEGIN:VTIMEZONE
TZID:America/Chicago
BEGIN:DAYLIGHT
TZOFFSETFROM:-0600
TZOFFSETTO:-0500
TZNAME:CDT
DTSTART:20200308T080000
END:DAYLIGHT
BEGIN:STANDARD
TZOFFSETFROM:-0500
TZOFFSETTO:-0600
TZNAME:CST
DTSTART:20201101T070000
END:STANDARD
BEGIN:DAYLIGHT
TZOFFSETFROM:-0600
TZOFFSETTO:-0500
TZNAME:CDT
DTSTART:20210314T080000
END:DAYLIGHT
BEGIN:STANDARD
TZOFFSETFROM:-0500
TZOFFSETTO:-0600
TZNAME:CST
DTSTART:20211107T070000
END:STANDARD
BEGIN:DAYLIGHT
TZOFFSETFROM:-0600
TZOFFSETTO:-0500
TZNAME:CDT
DTSTART:20220313T080000
END:DAYLIGHT
BEGIN:STANDARD
TZOFFSETFROM:-0500
TZOFFSETTO:-0600
TZNAME:CST
DTSTART:20221106T070000
END:STANDARD
BEGIN:DAYLIGHT
TZOFFSETFROM:-0600
TZOFFSETTO:-0500
TZNAME:CDT
DTSTART:20230312T080000
END:DAYLIGHT
BEGIN:STANDARD
TZOFFSETFROM:-0500
TZOFFSETTO:-0600
TZNAME:CST
DTSTART:20231105T070000
END:STANDARD
END:VTIMEZONE
BEGIN:VEVENT
DTSTART;TZID=America/Chicago:20211202T192000
DTEND;TZID=America/Chicago:20211202T220000
DTSTAMP:20260424T162447
CREATED:20211026T030508Z
LAST-MODIFIED:20221130T214555Z
UID:235559-1638472800-1638482400@theexchangehall.com
SUMMARY:Cheer On The Cowboys
DESCRIPTION:Join us on the lawn Thursday\, 12/2\, while the Cowboys game streams on the 104′ Media Wall\, plus over 40 other TVs throughout the District! \nDon’t forget to stop by Jaxon for a $4 Miller and Coors special\, or any of the 8 bars in the District to grab a drink to enjoy while watching the game.
URL:https://theexchangehall.com/event/cheer-on-the-cowboys-6/
LOCATION:AT&T Discovery District\, 308 S Akard St\, Dallas\, TX\, 75202
CATEGORIES:Kids & Family,Sports
ATTACH;FMTTYPE=image/jpeg:https://theexchangehall.com/wp-content/uploads/2022/02/night-game-scaled-LY1JUx.tmp_.jpg
END:VEVENT
BEGIN:VEVENT
DTSTART;TZID=America/Chicago:20211204T100000
DTEND;TZID=America/Chicago:20211204T120000
DTSTAMP:20260424T162447
CREATED:20211229T165917Z
LAST-MODIFIED:20221130T214547Z
UID:236449-1638612000-1638619200@theexchangehall.com
SUMMARY:Dallas Holiday Parade
DESCRIPTION:Watch the Dallas Holiday Parade free from the AT&T Discovery District on Saturday 12/4 starting at 10am. We are the Premier Sponsor with four live performances in the Plaza! Holiday festivities will continue in the District following the parade. \nEnjoy an unforgettable viewing experience and brunch from the Second Floor and Attalie patios from 10am – 12pm\, giving you the best seats in the house with delicious food. Seating is limited and by reservations only. Tickets are $75/person and include an unlimited brunch buffet. Tickets for exclusive seating can be purchased here. \nPlease anticipate road closure on the day of the event. Arrival by 9:30am is highly recommended. There will be available parking with validation at 1212 Jackson St.
URL:https://theexchangehall.com/event/dallas-holiday-parade/
LOCATION:AT&T Discovery District\, 308 S Akard St\, Dallas\, TX\, 75202
CATEGORIES:Food & Drink,Kids & Family
ATTACH;FMTTYPE=image/jpeg:https://theexchangehall.com/wp-content/uploads/2022/02/parade-scaled-1z0D6E.tmp_.jpg
END:VEVENT
BEGIN:VEVENT
DTSTART;TZID=America/Chicago:20211204T130000
DTEND;TZID=America/Chicago:20211204T170000
DTSTAMP:20260424T162447
CREATED:20211229T165911Z
LAST-MODIFIED:20221130T214544Z
UID:236440-1638622800-1638637200@theexchangehall.com
SUMMARY:Party in The Plaza
DESCRIPTION:Join in on the fun in The District after the 2021 Dallas Holiday Parade on Saturday\, 12/4\, starting at 1PM. Festivities include: \nSanta by the Tree from 1-3PM \nPerformances by The World Famous Cowboy Band of Hardin Simmons University\, Starlite Studio\, Pegasus Charter School\, and more \nCarriage Ride Photo Op \nLive Music \nHoliday Food and Drinks
URL:https://theexchangehall.com/event/party-in-the-plaza/
LOCATION:AT&T Discovery District\, 308 S Akard St\, Dallas\, TX\, 75202
CATEGORIES:Food & Drink,Kids & Family,Music
ATTACH;FMTTYPE=image/jpeg:https://theexchangehall.com/wp-content/uploads/2022/02/holiday-parade-cover-scaled-uZLaXR.tmp_.jpg
END:VEVENT
BEGIN:VEVENT
DTSTART;TZID=America/Chicago:20211205T120000
DTEND;TZID=America/Chicago:20211205T160000
DTSTAMP:20260424T162447
CREATED:20211229T165912Z
LAST-MODIFIED:20221130T214545Z
UID:236442-1638705600-1638720000@theexchangehall.com
SUMMARY:Kids Zone at The Grove
DESCRIPTION:Bring the kids to the holiday festivities for Kids Zone at The Grove Sunday\, 12/5 to enjoy multiple family fun activities! Pre-order or pick up day of at Rise+Thyme for the gingerbread house decorating contest! There will be letters to Santa\, ornament workshop\, giveaways\, holiday drinks\, and free family photos in front of the tree from 1-3pm. Wrap up the fun and stay for the Movies on the Lawn showing of the favorite holiday classic\, Elf from 4-6pm!
URL:https://theexchangehall.com/event/kids-zone-at-the-grove/
LOCATION:AT&T Discovery District\, 308 S Akard St\, Dallas\, TX\, 75202
CATEGORIES:Kids & Family
ATTACH;FMTTYPE=image/jpeg:https://theexchangehall.com/wp-content/uploads/2022/02/zids-zone-scaled-zy5CDl.tmp_.jpg
END:VEVENT
BEGIN:VEVENT
DTSTART;TZID=America/Chicago:20211205T160000
DTEND;TZID=America/Chicago:20211205T180000
DTSTAMP:20260424T162447
CREATED:20211229T165913Z
LAST-MODIFIED:20221130T214545Z
UID:236443-1638720000-1638727200@theexchangehall.com
SUMMARY:Movies on the Lawn - Elf
DESCRIPTION:Come watch the Holiday classic\, Elf\, on the Lawn in the AT&T Discovery District on Sunday\, 12/4 starting at 4PM following the Kids Zone festivities
URL:https://theexchangehall.com/event/movies-on-the-lawn-elf/
LOCATION:AT&T Discovery District\, 308 S Akard St\, Dallas\, TX\, 75202
CATEGORIES:Kids & Family,TV & Film
ATTACH;FMTTYPE=image/jpeg:https://theexchangehall.com/wp-content/uploads/2022/02/ELF-cover-scaled-OlSUB4.tmp_.jpg
END:VEVENT
BEGIN:VEVENT
DTSTART;TZID=America/Chicago:20211208T080000
DTEND;TZID=America/Chicago:20220126T200000
DTSTAMP:20260424T162447
CREATED:20211229T165958Z
LAST-MODIFIED:20221130T214541Z
UID:236471-1638950400-1643227200@theexchangehall.com
SUMMARY:Luminara: Holiday Traditions Around the World
DESCRIPTION:“Luminara: Holiday Traditions Around the World” explores the ways 16 different cultures celebrate during this season of the year. \nSee the entire collection of 16 images as a physical art exhibit in the AT&T Showcase from 12/8-1/26. Admission is free. Masks are available upon entry.  
URL:https://theexchangehall.com/event/luminara-holiday-traditions-around-the-world/
LOCATION:At&t Showcase\, 208 S Akard Street Lobby\, Dallas\, TX\, 75202
CATEGORIES:Art,Education,Kids & Family
ATTACH;FMTTYPE=image/jpeg:https://theexchangehall.com/wp-content/uploads/2022/02/Luminara-cover-scaled-E78U0t.tmp_.jpg
END:VEVENT
BEGIN:VEVENT
DTSTART;TZID=America/Chicago:20211211T190000
DTEND;TZID=America/Chicago:20211211T210000
DTSTAMP:20260424T162448
CREATED:20211229T165959Z
LAST-MODIFIED:20221130T214543Z
UID:236473-1639249200-1639256400@theexchangehall.com
SUMMARY:The Nice List Party
DESCRIPTION:AT&T and True Colors United present The Nice List Party this Saturday\, Dec.11\, from 7-9pm at the AT&T Flagship Store in Dallas at 308 S Akard St Ste. 100. \nThe Nice List Party will consist of music\, light snacks\, and non-alcoholic festive drinks\, as well as a live-streamed performance by Cyndi Lauper. \n  \nTICKETS\nConsumers are prompted to ask In-Store Representatives on about how to RSVP to The Nice List Party. Once prompted\, In-Store Representatives will capture consumer information via iPad through URL Link (www.attnicelistparty.com) \nAlternatively\, consumers may RSVP directly on www.attnicelistparty.com hyperlinked through social media postings/ads\, and from in-store signage.RSVPS are limited per location and allow a +1. \n  \nSTRATEGIC PARTNER: TRUE COLORS UNITED\nAT&T is committed to supporting the LGBTQ+ community and is working with partners to solve key issues experienced by LGBTQ+ youth including homelessness through our support of True Colors United\, and emotional crisis through our support of The Trevor Project\, True Colors United implements innovative solutions to youth homelessness that focus on the unique experiences of LGBTQ young people. In the United States\, 4.2 million youth experience homelessness each year\, with lesbian\, gay\, bisexual\, transgender\, queer\, and questioning (LGBTQ) youth 120% more likely to experience homelessness than their non- LGBTQ peers. True Colors United is committed to changing that. If we can ensure that services are safe for and affirming of the most impacted young people\, we can be confident that they’ll be safe and affirming for everyone. We believe that youth homelessness is a community issue. Real change can happen when people come together with a shared vision.5  \n  \nTEXT TO DONATE:\nConsumers can join us in supporting True Colors United and their work to end LGBTQ+ youth homelessness by making a donation. It’s easy..Text NICE to 24365  \n  \nTALENT OVERVIEW:\nCyndi Lauper is a groundbreaking Grammy\, Emmy\, and Tony Award-winning songwriter and performing artist with global record sales in excess of 50 million. Her iconic voice\, influential punk glamour\, and infectious live shows have catapulted her to stardom. Lauper won the Grammy Award for Best New Artist with her first album\, She’s So Unusual\, and became the first woman in history to have four top-five singles from a debut album. Since then\, Lauper has released ten additional studio albums\, yielding timeless classics like “Time After Time” and “True Colors\,” and the anthemic “Girls Just Wanna Have Fun.” She’s been nominated for 15 Grammy Awards\, two American Music Awards\, seven American Video Awards\, and 18 MTV Awards.  \n  \nFor the health and safety of all patrons The Nice List Party requires all ticket holders & media in attendance to provide proof of having received the COVID-19 vaccine or a negative PCR COVID-19 test result taken within 72 hours of the event each day. Vaccinated attendees will be required to show proof that 14 days (November 27th\, 2021 being the last eligible date to receive the vaccine) have passed since receiving a second dose of the Pfizer-BioNtech or Moderna COVID-19 vaccine (or other COVID-19 vaccinations recognized by WHO) or a single Johnson & Johnson’s Janssen dose of the COVID-19 vaccine in order to enter The Nice List Party. \nWe ask all guests to wear masks while in the store when not eating or drinking.
URL:https://theexchangehall.com/event/the-nice-list-party/
LOCATION:AT&T Experience Store\, 308 S Akard St Ste. 100\, Dallas\, TX\, 75202\, United States
CATEGORIES:Education,Food & Drink,Music,Nightlife
ATTACH;FMTTYPE=image/jpeg:https://theexchangehall.com/wp-content/uploads/2022/02/nice-list-party-cover-scaled-2HzWao.tmp_.jpg
END:VEVENT
BEGIN:VEVENT
DTSTART;TZID=America/Chicago:20211212T120000
DTEND;TZID=America/Chicago:20211212T150000
DTSTAMP:20260424T162448
CREATED:20211026T030508Z
LAST-MODIFIED:20221130T214555Z
UID:235558-1639310400-1639321200@theexchangehall.com
SUMMARY:Cheer On The Cowboys
DESCRIPTION:Join us on the lawn Sunday\, 12/12\, while the Cowboys game streams on the 104′ Media Wall\, plus over 40 other TVs throughout the District! \nDon’t forget to stop by Jaxon for a $4 Miller and Coors special\, or any of the 8 bars in the District to grab a drink to enjoy while watching the game.
URL:https://theexchangehall.com/event/cheer-on-the-cowboys-5/
LOCATION:AT&T Discovery District\, 308 S Akard St\, Dallas\, TX\, 75202
CATEGORIES:Kids & Family,Sports
ATTACH;FMTTYPE=image/jpeg:https://theexchangehall.com/wp-content/uploads/2022/02/day-game-2-scaled-qkAQ5w.tmp_.jpg
END:VEVENT
BEGIN:VEVENT
DTSTART;TZID=America/Chicago:20211218T120000
DTEND;TZID=America/Chicago:20211218T150000
DTSTAMP:20260424T162448
CREATED:20211229T165910Z
LAST-MODIFIED:20221130T214543Z
UID:236438-1639828800-1639839600@theexchangehall.com
SUMMARY:3RD ANNUAL DOWNTOWN STOCKING STROLL
DESCRIPTION:We invite everyone to join us this holiday season for our 3rd Annual Downtown Stocking Stroll where you can visit your favorite Downtown merchants for fun stuffers and treats! \nMain Street Garden will host a Boho Market with local shops\, Hot cocoa station\, and FREE train rides at the park! \nBring your own stocking or pick one up from Main Street Garden for free (while supplies last)\, along with the map of all participating businesses.
URL:https://theexchangehall.com/event/3rd-annual-downtown-stocking-stroll/
LOCATION:AT&T Discovery District\, 308 S Akard St\, Dallas\, TX\, 75202
CATEGORIES:Kids & Family
ATTACH;FMTTYPE=image/jpeg:https://theexchangehall.com/wp-content/uploads/2022/02/ATT-cover-scaled-0tkirA.tmp_.jpg
END:VEVENT
BEGIN:VEVENT
DTSTART;TZID=America/Chicago:20211219T120000
DTEND;TZID=America/Chicago:20211219T150000
DTSTAMP:20260424T162448
CREATED:20211026T030507Z
LAST-MODIFIED:20221130T214554Z
UID:235557-1639915200-1639926000@theexchangehall.com
SUMMARY:Cheer On The Cowboys
DESCRIPTION:Join us on the lawn Sunday\, 12/19\, while the Cowboys game streams on the 104′ Media Wall\, plus over 40 other TVs throughout the District! \nDon’t forget to stop by Jaxon for a $4 Miller and Coors special\, or any of the 8 bars in the District to grab a drink to enjoy while watching the game.
URL:https://theexchangehall.com/event/cheer-on-the-cowboys-4/
LOCATION:AT&T Discovery District\, 308 S Akard St\, Dallas\, TX\, 75202
CATEGORIES:Kids & Family,Sports
ATTACH;FMTTYPE=image/jpeg:https://theexchangehall.com/wp-content/uploads/2022/02/ATTDD_COWBOYS-GAME_091921-36-scaled-pwWN2k.tmp_.jpg
END:VEVENT
BEGIN:VEVENT
DTSTART;TZID=America/Chicago:20211226T192000
DTEND;TZID=America/Chicago:20211226T220000
DTSTAMP:20260424T162448
CREATED:20211026T030506Z
LAST-MODIFIED:20221130T214553Z
UID:235556-1640546400-1640556000@theexchangehall.com
SUMMARY:Cheer On The Cowboys
DESCRIPTION:Join us on the lawn Thursday\, 12/26\, while the Cowboys game streams on the 104′ Media Wall\, plus over 40 other TVs throughout the District! \nDon’t forget to stop by Jaxon for a $4 Miller and Coors special\, or any of the 8 bars in the District to grab a drink to enjoy while watching the game.
URL:https://theexchangehall.com/event/cheer-on-the-cowboys-3/
LOCATION:AT&T Discovery District\, 308 S Akard St\, Dallas\, TX\, 75202
CATEGORIES:Kids & Family,Sports
ATTACH;FMTTYPE=image/jpeg:https://theexchangehall.com/wp-content/uploads/2022/02/night-game-2-scaled-NJn5DK.tmp_.jpg
END:VEVENT
BEGIN:VEVENT
DTSTART;TZID=America/Chicago:20211231T190000
DTEND;TZID=America/Chicago:20220101T020000
DTSTAMP:20260424T162448
CREATED:20211229T165916Z
LAST-MODIFIED:20221130T214547Z
UID:236448-1640977200-1641002400@theexchangehall.com
SUMMARY:NEW YEAR'S EVE CELEBRATION 2022
DESCRIPTION:Ring in the New Year in style with a Roaring 20’s-themed party at the AT&T Discovery District! Enjoy a FREE outdoor party in our Plaza featuring musical performances by A-Trak\, CB Smoove\, DJ MJ\, and Ursa Minor. Other festivities include a live countdown on our 104 ft. Media Wall\, 360 photo booth\, aerialists\, and party favors for the first 500 guests. RSVP is recommended\, but not required. \nUpgrade your experience at Second Floor or The Exchange Hall to enjoy an action-packed night filled with glitz\, glamour & premier food and beverage packages. \n\nRSVP Here for FREE General Admission Tickets to Celebrate in the DistrictPlaza RSVP » \nPurchase Upgraded Packages from The Exchange & Second Floor here
URL:https://theexchangehall.com/event/new-years-eve-celebration-2022/
LOCATION:AT&T Discovery District\, 308 S Akard St\, Dallas\, TX\, 75202
CATEGORIES:Food & Drink,Music,Nightlife
ATTACH;FMTTYPE=image/jpeg:https://theexchangehall.com/wp-content/uploads/2022/02/nye-scaled-XbDiy4.tmp_.jpg
END:VEVENT
END:VCALENDAR