BEGIN:VCALENDAR
VERSION:2.0
PRODID:-//The Exchange Food Hall - ECPv6.15.17//NONSGML v1.0//EN
CALSCALE:GREGORIAN
METHOD:PUBLISH
X-WR-CALNAME:The Exchange Food Hall
X-ORIGINAL-URL:https://theexchangehall.com
X-WR-CALDESC:Events for The Exchange Food Hall
REFRESH-INTERVAL;VALUE=DURATION:PT1H
X-Robots-Tag:noindex
X-PUBLISHED-TTL:PT1H
BEGIN:VTIMEZONE
TZID:America/Chicago
BEGIN:DAYLIGHT
TZOFFSETFROM:-0600
TZOFFSETTO:-0500
TZNAME:CDT
DTSTART:20210314T080000
END:DAYLIGHT
BEGIN:STANDARD
TZOFFSETFROM:-0500
TZOFFSETTO:-0600
TZNAME:CST
DTSTART:20211107T070000
END:STANDARD
BEGIN:DAYLIGHT
TZOFFSETFROM:-0600
TZOFFSETTO:-0500
TZNAME:CDT
DTSTART:20220313T080000
END:DAYLIGHT
BEGIN:STANDARD
TZOFFSETFROM:-0500
TZOFFSETTO:-0600
TZNAME:CST
DTSTART:20221106T070000
END:STANDARD
BEGIN:DAYLIGHT
TZOFFSETFROM:-0600
TZOFFSETTO:-0500
TZNAME:CDT
DTSTART:20230312T080000
END:DAYLIGHT
BEGIN:STANDARD
TZOFFSETFROM:-0500
TZOFFSETTO:-0600
TZNAME:CST
DTSTART:20231105T070000
END:STANDARD
END:VTIMEZONE
BEGIN:VEVENT
DTSTART;TZID=America/Chicago:20220201T090000
DTEND;TZID=America/Chicago:20220328T210000
DTSTAMP:20260424T200209
CREATED:20220328T190546Z
LAST-MODIFIED:20221130T214534Z
UID:237778-1643706000-1648501200@theexchangehall.com
SUMMARY:Dream In Black Showcase
DESCRIPTION:AT&T Dream In Black was proud to present 2022 Black Future Makers\, a celebration of the dreams and the future made possible by more than 400 years of Black history\, culture and contributions. Imagery for the installation was produced by Georgie Nakima.
URL:https://theexchangehall.com/event/dream-in-black-showcase-2/
LOCATION:At&t Showcase\, 208 S Akard Street Lobby\, Dallas\, TX\, 75202
CATEGORIES:Art,Education
ATTACH;FMTTYPE=image/jpeg:https://theexchangehall.com/wp-content/uploads/2022/02/BHM-scaled-cAojCL.tmp_.jpg
END:VEVENT
BEGIN:VEVENT
DTSTART;TZID=America/Chicago:20220305T100000
DTEND;TZID=America/Chicago:20220305T180000
DTSTAMP:20260424T200209
CREATED:20220225T200511Z
LAST-MODIFIED:20221130T214533Z
UID:237379-1646474400-1646503200@theexchangehall.com
SUMMARY:Black Business Owners District Market
DESCRIPTION:Head over to the Discovery District for a Black Business Owners District Market on Saturday\, 3/5 from 10am – 6pm! \nThe festivities include a District Market of all local black vendors and live musical performances by Cure for Paranoia\, Clover the Violinist\, and Ursa Minor throughout the day. \nOur vendors include: \nJust Serenity Home Co.\nMekumi Bath\nConcrete Dreams\nRambo\nOlphactory Candles\nBe So Selfish\nHenry’s Daughter Home Decor\nAva Michelle Jewelry\nJackson The Brand
URL:https://theexchangehall.com/event/black-business-owners-district-market/
LOCATION:AT&T Discovery District\, 308 S Akard St\, Dallas\, TX\, 75202
CATEGORIES:Art,Kids & Family,Music
ATTACH;FMTTYPE=image/jpeg:https://theexchangehall.com/wp-content/uploads/2022/02/BHM-2-scaled-O7ZVgf.tmp_.jpg
END:VEVENT
BEGIN:VEVENT
DTSTART;TZID=America/Chicago:20220312T100000
DTEND;TZID=America/Chicago:20220312T220000
DTSTAMP:20260424T200209
CREATED:20220121T000506Z
LAST-MODIFIED:20221130T214537Z
UID:236794-1647079200-1647122400@theexchangehall.com
SUMMARY:ST. PATRICK'S DAY BLOCK PARTY FEAT. MATT AND KIM
DESCRIPTION:Celebrate St. Patrick’s Day at the AT&T Discovery District! Enjoy a FREE outdoor block party in our Plaza featuring musical performances by Matt and Kim\, Surf Mesa\, The Rich Girls\, and DJ Blake Ward. Other festivities include a live broadcast of the Lower Greenville parade on the Media Wall\, performances by Irish Folk dancers\, a kid’s zone\, and more. \nRSVP is recommended\, but not required. \n\n\n\n\nBlock Party kicks off at 10:00AM \nKids’ Zone runs from 10:00AM to 1:00PM \nLive Broadcast of the Greenville Avenue Parade on the Media Wall at 11:00AM. \nLive Performances start at 2:00PM. \nFree Parking is available in the 1212 Jackson St. & 1500 Jackson St. parking garages with validation from Double Tap\, Jaxon\, or Experience Store\, with purchase.
URL:https://theexchangehall.com/event/st-patricks-day-block-party-feat-matt-and-kim/
LOCATION:AT&T Discovery District\, 308 S Akard St\, Dallas\, TX\, 75202
CATEGORIES:Food & Drink,Music,Nightlife
ATTACH;FMTTYPE=image/jpeg:https://theexchangehall.com/wp-content/uploads/2022/02/ATTDD_StPatty-2022-cover-scaled-u8lorb.tmp_.jpg
END:VEVENT
BEGIN:VEVENT
DTSTART;TZID=America/Chicago:20220313T170000
DTEND;TZID=America/Chicago:20220404T220000
DTSTAMP:20260424T200209
CREATED:20220225T200508Z
LAST-MODIFIED:20221130T214532Z
UID:237376-1647190800-1649109600@theexchangehall.com
SUMMARY:NCAA MARCH MADNESS
DESCRIPTION:Go big this March when you catch all the biggest NCAA games on our Media Wall. Watch the Championship at the District. \n4/4 Men’s Championship at 8:20 PM \nKansas vs. North Carolina
URL:https://theexchangehall.com/event/ncaa-march-madness/
LOCATION:AT&T Discovery District\, 308 S Akard St\, Dallas\, TX\, 75202
CATEGORIES:Kids & Family,Sports
ATTACH;FMTTYPE=image/jpeg:https://theexchangehall.com/wp-content/uploads/2022/02/ATT-template-2-scaled-u4zdZB.tmp_.jpg
END:VEVENT
BEGIN:VEVENT
DTSTART;TZID=America/Chicago:20220319T110000
DTEND;TZID=America/Chicago:20220319T180000
DTSTAMP:20260424T200209
CREATED:20220225T200506Z
LAST-MODIFIED:20221130T214530Z
UID:237373-1647687600-1647712800@theexchangehall.com
SUMMARY:Women's District Market
DESCRIPTION:Head over to the Discovery District for a District Market in celebration of Women’s History Month on Saturday\, 3/19 from 11am – 6pm! \nThe festivities include a market of all local women vendors and live musical performances by Small Town\, Maya Piata\, and DJ Soul Sistas throughout the day. \nVENDORS\nJanak Art\nZafino Jewelers\nRita Vicari Gallery\nHenry’s Daughter Home Decor\nMansie Artistic\nMio Candles\nThe Styled Boutique\nJust Serenity Home Co.\nConcrete Dream\nPacha by Hand\nMikki Mallow\nMekumi Bath\nShop Blue District\nBridget Marie Style\nMelt Dallas\nEccentrix Gallery\nKuma’s Candles\nBe So Selfish \n 
URL:https://theexchangehall.com/event/womens-district-market/
LOCATION:AT&T Discovery District\, 308 S Akard St\, Dallas\, TX\, 75202
CATEGORIES:Art,Kids & Family,Music
ATTACH;FMTTYPE=image/jpeg:https://theexchangehall.com/wp-content/uploads/2022/02/ATT-template_womans-scaled-HNpKFE.tmp_.jpg
END:VEVENT
BEGIN:VEVENT
DTSTART;TZID=America/Chicago:20220324T210000
DTEND;TZID=America/Chicago:20220324T230000
DTSTAMP:20260424T200209
CREATED:20220225T200507Z
LAST-MODIFIED:20221130T214531Z
UID:237374-1648155600-1648162800@theexchangehall.com
SUMMARY:USA vs Mexico
DESCRIPTION:Whether it’s soccer or football to you\, this is a game you won’t want to miss! Join us at 9pm on 3/24 as we stream a huge game on an even more huge Media Wall!
URL:https://theexchangehall.com/event/usa-vs-mexico/
LOCATION:AT&T Discovery District\, 308 S Akard St\, Dallas\, TX\, 75202
CATEGORIES:Kids & Family,Sports
ATTACH;FMTTYPE=image/jpeg:https://theexchangehall.com/wp-content/uploads/2022/02/ATT-template_game-scaled-SMbgcs.tmp_.jpg
END:VEVENT
END:VCALENDAR